{"text_format":"1","workbook":"xlsx","n_sheets":4,"sheets":["申込書（ｸﾗﾌﾞ事務局用）","集計表","印刷指定","手書き用申込書"],"not_rendered":{"charts":0,"images":0,"macros":1,"external_links":0,"defined_names":4,"comments":0,"pivot_tables":0},"unopened":[],"bounds":{"document_bytes":16777216,"sheet_cells":100000,"rows_first":2000,"rows_last":500,"rows_between":2000,"halvings":0,"cell_chars":16384,"cell_head_chars":4096},"cells_cut":0,"cells_raw":0,"read":"whole","date_system":"1900"}

{"sheet":"申込書（ｸﾗﾌﾞ事務局用）","index":0,"n_rows":179,"n_cols":27,"rows_kept":179,"cut":false,"hidden":false,"merged":[[6,0,6,2],[7,0,7,2],[8,0,8,2],[8,3,8,7]]}
["令和",3,"年度",null,"１加盟クラブあたり、１０チームまで申し込みできます。　最初にこのファイルをパソコンのどこか（デスクトップなど）に保存してください。"]
["第",22,"回　福井県春季クラブ対抗バドミントン大会　参加申込書",null,null,null,null,"保存後、保存したこのファイルを開いて参加チームのデータを入力してください。"]
[null,null,null,null,"印刷指定画面へ",null,null,"入力後、クラブ名が分かるように「名前を付けて保存」してください。"]
[null,null,null,null,"集計表の表示",null,null,"[集計表]で参加チームの集計をしています。チーム数や参加料の確認に役立ててください。"]
[null,null,null,null,"手書き用申込書の表示",null,null,"保存後、加盟団体事務局へﾒｰﾙに添付して送信してください。"]
[]
["クラブ名"]
["代表者(申込責任者)氏名"]
["代表者電話＆ﾒｰﾙｱﾄﾞﾚｽ"]
["チームcd","申込部門","部門cd","チーム名","市町名","加盟団体","参加料cd","参加料","申込責任者氏名",null,"連絡先",null,null,"表示用チーム名",null,null,null,"部門名","申込部門cd","試合部門cd","試合部門","参加料cd","参加料",null,"加盟団体名","登録団体名","市町名"]
[{"$f":"IF(B11=\"\",\"\",1)","v":""},null,{"$f":"IF($B11=\"\",\"\",VLOOKUP($B11,$R$11:$S$22,2,FALSE))","v":""},null,null,null,null,{"$f":"IF(G11=\"\",\"\",VLOOKUP(G11,$V$11:$W$16,2,FALSE))","v":""},{"$f":"IF($D11=\"\",\"\",$D$8)","v":""},null,{"$f":"IF($D11=\"\",\"\",$D$9)","v":""},null,null,{"$f":"IF(D11=\"\",\"\",D11&\"　\"&C11&\"　\"&F11)","v":""},null,null,null,"Ａ１部","A1","A10","Ａ １部","Ａ 一般",4000,null,"高体連","高体連","福井市"]
[{"$f":"IF(C11=\"\",\"\",\"Ａの部は男子複,女子複,混合複で構成。\")","v":""},null,null,null,"氏名","入金日","方法","確認日",null,"選手区分",1,null,null,null,null,null,null,"Ａ２部","A2","A20","Ａ ２部","Ａ 高校",3000,null,"中体連","中体連","敦賀市"]
[{"$f":"IF(C11=\"\",\"\",\"Ｂの部は混合複×３で構成。\")","v":""},null,null,"監督",null,null,null,null,null,"監督",null,null,null,null,null,null,null,"Ａ３部","A3","A30","Ａ ３部","Ａ 小中",2000,null,"小学生連盟","小学生連盟","大野市"]
[{"$f":"IF(C11=\"\",\"\",\"当日３人までの変更可能\")","v":""},null,null,"ｺｰﾁ",null,null,null,null,null,"ｺｰﾁ",null,null,null,null,null,null,null,"Ｂ１部","B1","B10","Ｂ １部","Ｂ 一般",{"$f":"W11","v":4000},null,"レディース","レディース","越前市"]
[null,null,null,"ﾏﾈｰｼﾞｬｰ",null,null,null,null,null,"ﾏﾈｰｼﾞｬｰ",null,null,null,null,null,null,null,"Ｂ２部","B2","B20","Ｂ ２部","Ｂ 高校",{"$f":"W12","v":3000},null,"実業団","実業団","鯖江市"]
["選手cd","申込部門","部門cd","チーム名","選手氏名","日バ登録番号","小中高\n大一般","登録団体名","性別","選手区分",null,null,null,null,null,null,null,"Ｂ３部","B3","B30","Ｂ ３部","Ｂ 小中",{"$f":"W13","v":2000},null,"教職員","教職員","勝山市"]
[{"$f":"IF($A11=\"\",\"\",$C11&$A11&10)","v":""},{"$f":"IF($B11=\"\",\"\",$B11)","v":""},{"$f":"IF($C11=\"\",\"\",$C11)","v":""},{"$f":"IF($D11=\"\",\"\",$D11)","v":""},null,null,null,null,null,"選手1",null,null,null,null,null,null,null,null,null,null,null,null,null,null,"福井市","福井市","坂井市"]
[{"$f":"IF($A11=\"\",\"\",$C11&$A11&20)","v":""},{"$f":"IF($B11=\"\",\"\",$B11)","v":""},{"$f":"IF($C11=\"\",\"\",$C11)","v":""},{"$f":"IF($D11=\"\",\"\",$D11)","v":""},null,null,null,null,null,"選手2",null,null,null,null,null,null,null,null,null,null,null,null,null,null,"敦賀市","敦賀市","あわら市"]
[{"$f":"IF($A11=\"\",\"\",$C11&$A11&30)","v":""},{"$f":"IF($B11=\"\",\"\",$B11)","v":""},{"$f":"IF($C11=\"\",\"\",$C11)","v":""},{"$f":"IF($D11=\"\",\"\",$D11)","v":""},null,null,null,null,null,"選手3",null,null,null,null,null,null,null,null,null,null,null,null,null,null,"大野市","大野市","小浜市"]
[{"$f":"IF($A11=\"\",\"\",$C11&$A11&40)","v":""},{"$f":"IF($B11=\"\",\"\",$B11)","v":""},{"$f":"IF($C11=\"\",\"\",$C11)","v":""},{"$f":"IF($D11=\"\",\"\",$D11)","v":""},null,null,null,null,null,"選手4",null,null,null,null,null,null,null,null,null,null,null,null,null,null,"越前市","越前市","高浜町"]
[{"$f":"IF($A11=\"\",\"\",$C11&$A11&50)","v":""},{"$f":"IF($B11=\"\",\"\",$B11)","v":""},{"$f":"IF($C11=\"\",\"\",$C11)","v":""},{"$f":"IF($D11=\"\",\"\",$D11)","v":""},null,null,null,null,null,"選手5",null,null,null,null,null,null,null,null,null,null,null,null,null,null,"鯖江市","鯖江市","おおい町"]
[{"$f":"IF($A11=\"\",\"\",$C11&$A11&60)","v":""},{"$f":"IF($B11=\"\",\"\",$B11)","v":""},{"$f":"IF($C11=\"\",\"\",$C11)","v":""},{"$f":"IF($D11=\"\",\"\",$D11)","v":""},null,null,null,null,null,"選手6",null,null,null,null,null,null,null,null,null,null,null,null,null,null,"勝山市","勝山市","永平寺町"]
[{"$f":"IF(OR($A11=\"\",$E23=\"\"),\"\",$C11&$A11&70)","v":""},{"$f":"IF(OR($A11=\"\",$E23=\"\"),\"\",$B11)","v":""},{"$f":"IF(OR($A11=\"\",$E23=\"\"),\"\",$C11)","v":""},{"$f":"IF(OR($A11=\"\",$E23=\"\"),\"\",$D11)","v":""},null,null,null,null,null,"選手7",null,null,null,null,null,null,null,null,null,null,null,null,null,null,"坂井市","坂井市","越前町"]
[{"$f":"IF(OR($A11=\"\",$E24=\"\"),\"\",$C11&$A11&80)","v":""},{"$f":"IF(OR($A11=\"\",$E24=\"\"),\"\",$B11)","v":""},{"$f":"IF(OR($A11=\"\",$E24=\"\"),\"\",$C11)","v":""},{"$f":"IF(OR($A11=\"\",$E24=\"\"),\"\",$D11)","v":""},null,null,null,null,null,"選手8",null,null,null,null,null,null,null,null,null,null,null,null,null,null,"あわら市","あわら市","南越前町"]
[{"$f":"IF(OR($A11=\"\",$E25=\"\"),\"\",$C11&$A11&90)","v":""},{"$f":"IF(OR($A11=\"\",$E25=\"\"),\"\",$B11)","v":""},{"$f":"IF(OR($A11=\"\",$E25=\"\"),\"\",$C11)","v":""},{"$f":"IF(OR($A11=\"\",$E25=\"\"),\"\",$D11)","v":""},null,null,null,null,null,"選手9",null,null,null,null,null,null,null,null,null,null,null,null,null,null,"おおい町","おおい町","美浜町"]
[{"$f":"IF(OR($A11=\"\",$E26=\"\"),\"\",$C11&$A11&99)","v":""},{"$f":"IF(OR($A11=\"\",$E26=\"\"),\"\",$B11)","v":""},{"$f":"IF(OR($A11=\"\",$E26=\"\"),\"\",$C11)","v":""},{"$f":"IF(OR($A11=\"\",$E26=\"\"),\"\",$D11)","v":""},null,null,null,null,null,"選手10",null,null,null,null,null,null,null,null,null,null,null,null,null,null,"小浜市","小浜市","若狭町"]
["チームcd","申込部門","部門cd","チーム名","市町名","加盟団体","参加料cd","参加料","申込責任者氏名",null,"連絡先",null,null,"表示用チーム名",null,null,null,null,null,null,null,null,null,null,"高浜町","高浜町","池田町"]
[{"$f":"IF(OR($A11=\"\",$B28=\"\"),\"\",$A11+1)","v":""},null,{"$f":"IF($B28=\"\",\"\",VLOOKUP($B28,$R$11:$S$22,2,FALSE))","v":""},null,null,null,null,{"$f":"IF(G28=\"\",\"\",VLOOKUP(G28,$V$11:$W$16,2,FALSE))","v":""},{"$f":"IF($D28=\"\",\"\",$D$8)","v":""},null,{"$f":"IF($D28=\"\",\"\",$D$9)","v":""},null,null,{"$f":"IF(D28=\"\",\"\",D28&\"　\"&C28&\"　\"&F28)","v":""},null,null,null,null,null,null,null,null,null,null,"永平寺町","永平寺町"]
[{"$f":"IF(C28=\"\",\"\",\"Ａの部は男子複,女子複,混合複で構成。\")","v":""},null,null,null,"氏名","入金日","方法","確認日",null,"選手区分",{"$f":"K12+1","v":2}]
[{"$f":"IF(C28=\"\",\"\",\"Ｂの部は混合複×３で構成。\")","v":""},null,null,"監督",null,null,null,null,null,"監督"]
[{"$f":"IF(C28=\"\",\"\",\"当日３人までの変更可能\")","v":""},null,null,"ｺｰﾁ",null,null,null,null,null,"ｺｰﾁ"]
[null,null,null,"ﾏﾈｰｼﾞｬｰ",null,null,null,null,null,"ﾏﾈｰｼﾞｬｰ"]
["選手cd","申込部門","部門cd","チーム名","選手氏名","日バ登録番号","小中高\n大一般","登録団体名","性別","選手区分"]
[{"$f":"IF($A28=\"\",\"\",$C28&$A28&10)","v":""},{"$f":"IF($B28=\"\",\"\",$B28)","v":""},{"$f":"IF($C28=\"\",\"\",$C28)","v":""},{"$f":"IF($D28=\"\",\"\",$D28)","v":""},null,null,null,null,null,"選手1"]
[{"$f":"IF($A28=\"\",\"\",$C28&$A28&20)","v":""},{"$f":"IF($B28=\"\",\"\",$B28)","v":""},{"$f":"IF($C28=\"\",\"\",$C28)","v":""},{"$f":"IF($D28=\"\",\"\",$D28)","v":""},null,null,null,null,null,"選手2"]
[{"$f":"IF($A28=\"\",\"\",$C28&$A28&30)","v":""},{"$f":"IF($B28=\"\",\"\",$B28)","v":""},{"$f":"IF($C28=\"\",\"\",$C28)","v":""},{"$f":"IF($D28=\"\",\"\",$D28)","v":""},null,null,null,null,null,"選手3"]
[{"$f":"IF($A28=\"\",\"\",$C28&$A28&40)","v":""},{"$f":"IF($B28=\"\",\"\",$B28)","v":""},{"$f":"IF($C28=\"\",\"\",$C28)","v":""},{"$f":"IF($D28=\"\",\"\",$D28)","v":""},null,null,null,null,null,"選手4"]
[{"$f":"IF($A28=\"\",\"\",$C28&$A28&50)","v":""},{"$f":"IF($B28=\"\",\"\",$B28)","v":""},{"$f":"IF($C28=\"\",\"\",$C28)","v":""},{"$f":"IF($D28=\"\",\"\",$D28)","v":""},null,null,null,null,null,"選手5"]
[{"$f":"IF($A28=\"\",\"\",$C28&$A28&60)","v":""},{"$f":"IF($B28=\"\",\"\",$B28)","v":""},{"$f":"IF($C28=\"\",\"\",$C28)","v":""},{"$f":"IF($D28=\"\",\"\",$D28)","v":""},null,null,null,null,null,"選手6"]
[{"$f":"IF(OR($A28=\"\",$E40=\"\"),\"\",$C28&$A28&70)","v":""},{"$f":"IF(OR($A28=\"\",$E40=\"\"),\"\",$B28)","v":""},{"$f":"IF(OR($A28=\"\",$E40=\"\"),\"\",$C28)","v":""},{"$f":"IF(OR($A28=\"\",$E40=\"\"),\"\",$D28)","v":""},null,null,null,null,null,"選手7"]
[{"$f":"IF(OR($A28=\"\",$E41=\"\"),\"\",$C28&$A28&80)","v":""},{"$f":"IF(OR($A28=\"\",$E41=\"\"),\"\",$B28)","v":""},{"$f":"IF(OR($A28=\"\",$E41=\"\"),\"\",$C28)","v":""},{"$f":"IF(OR($A28=\"\",$E41=\"\"),\"\",$D28)","v":""},null,null,null,null,null,"選手8"]
[{"$f":"IF(OR($A28=\"\",$E42=\"\"),\"\",$C28&$A28&90)","v":""},{"$f":"IF(OR($A28=\"\",$E42=\"\"),\"\",$B28)","v":""},{"$f":"IF(OR($A28=\"\",$E42=\"\"),\"\",$C28)","v":""},{"$f":"IF(OR($A28=\"\",$E42=\"\"),\"\",$D28)","v":""},null,null,null,null,null,"選手9"]
[{"$f":"IF(OR($A28=\"\",$E43=\"\"),\"\",$C28&$A28&99)","v":""},{"$f":"IF(OR($A28=\"\",$E43=\"\"),\"\",$B28)","v":""},{"$f":"IF(OR($A28=\"\",$E43=\"\"),\"\",$C28)","v":""},{"$f":"IF(OR($A28=\"\",$E43=\"\"),\"\",$D28)","v":""},null,null,null,null,null,"選手10"]
["チームcd","申込部門","部門cd","チーム名","市町名","加盟団体","参加料cd","参加料","申込責任者氏名",null,"連絡先",null,null,"表示用チーム名"]
[{"$f":"IF(OR($A28=\"\",$B45=\"\"),\"\",$A28+1)","v":""},null,{"$f":"IF($B45=\"\",\"\",VLOOKUP($B45,$R$11:$S$22,2,FALSE))","v":""},null,null,null,null,{"$f":"IF(G45=\"\",\"\",VLOOKUP(G45,$V$11:$W$16,2,FALSE))","v":""},{"$f":"IF($D45=\"\",\"\",$D$8)","v":""},null,{"$f":"IF($D45=\"\",\"\",$D$9)","v":""},null,null,{"$f":"IF(D45=\"\",\"\",D45&\"　\"&C45&\"　\"&F45)","v":""}]
[{"$f":"IF(C45=\"\",\"\",\"Ａの部は男子複,女子複,混合複で構成。\")","v":""},null,null,null,"氏名","入金日","方法","確認日",null,"選手区分",{"$f":"K29+1","v":3}]
[{"$f":"IF(C45=\"\",\"\",\"Ｂの部は混合複×３で構成。\")","v":""},null,null,"監督",null,null,null,null,null,"監督"]
[{"$f":"IF(C45=\"\",\"\",\"当日３人までの変更可能\")","v":""},null,null,"ｺｰﾁ",null,null,null,null,null,"ｺｰﾁ"]
[null,null,null,"ﾏﾈｰｼﾞｬｰ",null,null,null,null,null,"ﾏﾈｰｼﾞｬｰ"]
["選手cd","申込部門","部門cd","チーム名","選手氏名","日バ登録番号","小中高\n大一般","登録団体名","性別","選手区分"]
[{"$f":"IF($A45=\"\",\"\",$C45&$A45&10)","v":""},{"$f":"IF($B45=\"\",\"\",$B45)","v":""},{"$f":"IF($C45=\"\",\"\",$C45)","v":""},{"$f":"IF($D45=\"\",\"\",$D45)","v":""},null,null,null,null,null,"選手1"]
[{"$f":"IF($A45=\"\",\"\",$C45&$A45&20)","v":""},{"$f":"IF($B45=\"\",\"\",$B45)","v":""},{"$f":"IF($C45=\"\",\"\",$C45)","v":""},{"$f":"IF($D45=\"\",\"\",$D45)","v":""},null,null,null,null,null,"選手2"]
[{"$f":"IF($A45=\"\",\"\",$C45&$A45&30)","v":""},{"$f":"IF($B45=\"\",\"\",$B45)","v":""},{"$f":"IF($C45=\"\",\"\",$C45)","v":""},{"$f":"IF($D45=\"\",\"\",$D45)","v":""},null,null,null,null,null,"選手3"]
[{"$f":"IF($A45=\"\",\"\",$C45&$A45&40)","v":""},{"$f":"IF($B45=\"\",\"\",$B45)","v":""},{"$f":"IF($C45=\"\",\"\",$C45)","v":""},{"$f":"IF($D45=\"\",\"\",$D45)","v":""},null,null,null,null,null,"選手4"]
[{"$f":"IF($A45=\"\",\"\",$C45&$A45&50)","v":""},{"$f":"IF($B45=\"\",\"\",$B45)","v":""},{"$f":"IF($C45=\"\",\"\",$C45)","v":""},{"$f":"IF($D45=\"\",\"\",$D45)","v":""},null,null,null,null,null,"選手5"]
[{"$f":"IF($A45=\"\",\"\",$C45&$A45&60)","v":""},{"$f":"IF($B45=\"\",\"\",$B45)","v":""},{"$f":"IF($C45=\"\",\"\",$C45)","v":""},{"$f":"IF($D45=\"\",\"\",$D45)","v":""},null,null,null,null,null,"選手6"]
[{"$f":"IF(OR($A45=\"\",$E57=\"\"),\"\",$C45&$A45&70)","v":""},{"$f":"IF(OR($A45=\"\",$E57=\"\"),\"\",$B45)","v":""},{"$f":"IF(OR($A45=\"\",$E57=\"\"),\"\",$C45)","v":""},{"$f":"IF(OR($A45=\"\",$E57=\"\"),\"\",$D45)","v":""},null,null,null,null,null,"選手7"]
[{"$f":"IF(OR($A45=\"\",$E58=\"\"),\"\",$C45&$A45&80)","v":""},{"$f":"IF(OR($A45=\"\",$E58=\"\"),\"\",$B45)","v":""},{"$f":"IF(OR($A45=\"\",$E58=\"\"),\"\",$C45)","v":""},{"$f":"IF(OR($A45=\"\",$E58=\"\"),\"\",$D45)","v":""},null,null,null,null,null,"選手8"]
[{"$f":"IF(OR($A45=\"\",$E59=\"\"),\"\",$C45&$A45&90)","v":""},{"$f":"IF(OR($A45=\"\",$E59=\"\"),\"\",$B45)","v":""},{"$f":"IF(OR($A45=\"\",$E59=\"\"),\"\",$C45)","v":""},{"$f":"IF(OR($A45=\"\",$E59=\"\"),\"\",$D45)","v":""},null,null,null,null,null,"選手9"]
[{"$f":"IF(OR($A45=\"\",$E60=\"\"),\"\",$C45&$A45&99)","v":""},{"$f":"IF(OR($A45=\"\",$E60=\"\"),\"\",$B45)","v":""},{"$f":"IF(OR($A45=\"\",$E60=\"\"),\"\",$C45)","v":""},{"$f":"IF(OR($A45=\"\",$E60=\"\"),\"\",$D45)","v":""},null,null,null,null,null,"選手10"]
["チームcd","申込部門","部門cd","チーム名","市町名","加盟団体","参加料cd","参加料","申込責任者氏名",null,"連絡先",null,null,"表示用チーム名"]
[{"$f":"IF(OR($A45=\"\",$B62=\"\"),\"\",$A45+1)","v":""},null,{"$f":"IF($B62=\"\",\"\",VLOOKUP($B62,$R$11:$S$22,2,FALSE))","v":""},null,null,null,null,{"$f":"IF(G62=\"\",\"\",VLOOKUP(G62,$V$11:$W$16,2,FALSE))","v":""},{"$f":"IF($D62=\"\",\"\",$D$8)","v":""},null,{"$f":"IF($D62=\"\",\"\",$D$9)","v":""},null,null,{"$f":"IF(D62=\"\",\"\",D62&\"　\"&C62&\"　\"&F62)","v":""}]
[{"$f":"IF(C62=\"\",\"\",\"Ａの部は男子複,女子複,混合複で構成。\")","v":""},null,null,null,"氏名","入金日","方法","確認日",null,"選手区分",{"$f":"K46+1","v":4}]
[{"$f":"IF(C62=\"\",\"\",\"Ｂの部は混合複×３で構成。\")","v":""},null,null,"監督",null,null,null,null,null,"監督"]
[{"$f":"IF(C62=\"\",\"\",\"当日３人までの変更可能\")","v":""},null,null,"ｺｰﾁ",null,null,null,null,null,"ｺｰﾁ"]
[null,null,null,"ﾏﾈｰｼﾞｬｰ",null,null,null,null,null,"ﾏﾈｰｼﾞｬｰ"]
["選手cd","申込部門","部門cd","チーム名","選手氏名","日バ登録番号","小中高\n大一般","登録団体名","性別","選手区分"]
[{"$f":"IF($A62=\"\",\"\",$C62&$A62&10)","v":""},{"$f":"IF($B62=\"\",\"\",$B62)","v":""},{"$f":"IF($C62=\"\",\"\",$C62)","v":""},{"$f":"IF($D62=\"\",\"\",$D62)","v":""},null,null,null,null,null,"選手1"]
[{"$f":"IF($A62=\"\",\"\",$C62&$A62&20)","v":""},{"$f":"IF($B62=\"\",\"\",$B62)","v":""},{"$f":"IF($C62=\"\",\"\",$C62)","v":""},{"$f":"IF($D62=\"\",\"\",$D62)","v":""},null,null,null,null,null,"選手2"]
[{"$f":"IF($A62=\"\",\"\",$C62&$A62&30)","v":""},{"$f":"IF($B62=\"\",\"\",$B62)","v":""},{"$f":"IF($C62=\"\",\"\",$C62)","v":""},{"$f":"IF($D62=\"\",\"\",$D62)","v":""},null,null,null,null,null,"選手3"]
[{"$f":"IF($A62=\"\",\"\",$C62&$A62&40)","v":""},{"$f":"IF($B62=\"\",\"\",$B62)","v":""},{"$f":"IF($C62=\"\",\"\",$C62)","v":""},{"$f":"IF($D62=\"\",\"\",$D62)","v":""},null,null,null,null,null,"選手4"]
[{"$f":"IF($A62=\"\",\"\",$C62&$A62&50)","v":""},{"$f":"IF($B62=\"\",\"\",$B62)","v":""},{"$f":"IF($C62=\"\",\"\",$C62)","v":""},{"$f":"IF($D62=\"\",\"\",$D62)","v":""},null,null,null,null,null,"選手5"]
[{"$f":"IF($A62=\"\",\"\",$C62&$A62&60)","v":""},{"$f":"IF($B62=\"\",\"\",$B62)","v":""},{"$f":"IF($C62=\"\",\"\",$C62)","v":""},{"$f":"IF($D62=\"\",\"\",$D62)","v":""},null,null,null,null,null,"選手6"]
[{"$f":"IF(OR($A62=\"\",$E74=\"\"),\"\",$C62&$A62&70)","v":""},{"$f":"IF(OR($A62=\"\",$E74=\"\"),\"\",$B62)","v":""},{"$f":"IF(OR($A62=\"\",$E74=\"\"),\"\",$C62)","v":""},{"$f":"IF(OR($A62=\"\",$E74=\"\"),\"\",$D62)","v":""},null,null,null,null,null,"選手7"]
[{"$f":"IF(OR($A62=\"\",$E75=\"\"),\"\",$C62&$A62&80)","v":""},{"$f":"IF(OR($A62=\"\",$E75=\"\"),\"\",$B62)","v":""},{"$f":"IF(OR($A62=\"\",$E75=\"\"),\"\",$C62)","v":""},{"$f":"IF(OR($A62=\"\",$E75=\"\"),\"\",$D62)","v":""},null,null,null,null,null,"選手8"]
[{"$f":"IF(OR($A62=\"\",$E76=\"\"),\"\",$C62&$A62&90)","v":""},{"$f":"IF(OR($A62=\"\",$E76=\"\"),\"\",$B62)","v":""},{"$f":"IF(OR($A62=\"\",$E76=\"\"),\"\",$C62)","v":""},{"$f":"IF(OR($A62=\"\",$E76=\"\"),\"\",$D62)","v":""},null,null,null,null,null,"選手9"]
[{"$f":"IF(OR($A62=\"\",$E77=\"\"),\"\",$C62&$A62&99)","v":""},{"$f":"IF(OR($A62=\"\",$E77=\"\"),\"\",$B62)","v":""},{"$f":"IF(OR($A62=\"\",$E77=\"\"),\"\",$C62)","v":""},{"$f":"IF(OR($A62=\"\",$E77=\"\"),\"\",$D62)","v":""},null,null,null,null,null,"選手10"]
["チームcd","申込部門","部門cd","チーム名","市町名","加盟団体","参加料cd","参加料","申込責任者氏名",null,"連絡先",null,null,"表示用チーム名"]
[{"$f":"IF(OR($A62=\"\",$B79=\"\"),\"\",$A62+1)","v":""},null,{"$f":"IF($B79=\"\",\"\",VLOOKUP($B79,$R$11:$S$22,2,FALSE))","v":""},null,null,null,null,{"$f":"IF(G79=\"\",\"\",VLOOKUP(G79,$V$11:$W$16,2,FALSE))","v":""},{"$f":"IF($D79=\"\",\"\",$D$8)","v":""},null,{"$f":"IF($D79=\"\",\"\",$D$9)","v":""},null,null,{"$f":"IF(D79=\"\",\"\",D79&\"　\"&C79&\"　\"&F79)","v":""}]
[{"$f":"IF(C79=\"\",\"\",\"Ａの部は男子複,女子複,混合複で構成。\")","v":""},null,null,null,"氏名","入金日","方法","確認日",null,"選手区分",{"$f":"K63+1","v":5}]
[{"$f":"IF(C79=\"\",\"\",\"Ｂの部は混合複×３で構成。\")","v":""},null,null,"監督",null,null,null,null,null,"監督"]
[{"$f":"IF(C79=\"\",\"\",\"当日３人までの変更可能\")","v":""},null,null,"ｺｰﾁ",null,null,null,null,null,"ｺｰﾁ"]
[null,null,null,"ﾏﾈｰｼﾞｬｰ",null,null,null,null,null,"ﾏﾈｰｼﾞｬｰ"]
["選手cd","申込部門","部門cd","チーム名","選手氏名","日バ登録番号","小中高\n大一般","登録団体名","性別","選手区分"]
[{"$f":"IF($A79=\"\",\"\",$C79&$A79&10)","v":""},{"$f":"IF($B79=\"\",\"\",$B79)","v":""},{"$f":"IF($C79=\"\",\"\",$C79)","v":""},{"$f":"IF($D79=\"\",\"\",$D79)","v":""},null,null,null,null,null,"選手1"]
[{"$f":"IF($A79=\"\",\"\",$C79&$A79&20)","v":""},{"$f":"IF($B79=\"\",\"\",$B79)","v":""},{"$f":"IF($C79=\"\",\"\",$C79)","v":""},{"$f":"IF($D79=\"\",\"\",$D79)","v":""},null,null,null,null,null,"選手2"]
[{"$f":"IF($A79=\"\",\"\",$C79&$A79&30)","v":""},{"$f":"IF($B79=\"\",\"\",$B79)","v":""},{"$f":"IF($C79=\"\",\"\",$C79)","v":""},{"$f":"IF($D79=\"\",\"\",$D79)","v":""},null,null,null,null,null,"選手3"]
[{"$f":"IF($A79=\"\",\"\",$C79&$A79&40)","v":""},{"$f":"IF($B79=\"\",\"\",$B79)","v":""},{"$f":"IF($C79=\"\",\"\",$C79)","v":""},{"$f":"IF($D79=\"\",\"\",$D79)","v":""},null,null,null,null,null,"選手4"]
[{"$f":"IF($A79=\"\",\"\",$C79&$A79&50)","v":""},{"$f":"IF($B79=\"\",\"\",$B79)","v":""},{"$f":"IF($C79=\"\",\"\",$C79)","v":""},{"$f":"IF($D79=\"\",\"\",$D79)","v":""},null,null,null,null,null,"選手5"]
[{"$f":"IF($A79=\"\",\"\",$C79&$A79&60)","v":""},{"$f":"IF($B79=\"\",\"\",$B79)","v":""},{"$f":"IF($C79=\"\",\"\",$C79)","v":""},{"$f":"IF($D79=\"\",\"\",$D79)","v":""},null,null,null,null,null,"選手6"]
[{"$f":"IF(OR($A79=\"\",$E91=\"\"),\"\",$C79&$A79&70)","v":""},{"$f":"IF(OR($A79=\"\",$E91=\"\"),\"\",$B79)","v":""},{"$f":"IF(OR($A77=\"\",$E91=\"\"),\"\",$C77)","v":""},{"$f":"IF(OR($A79=\"\",$E91=\"\"),\"\",$D79)","v":""},null,null,null,null,null,"選手7"]
[{"$f":"IF(OR($A79=\"\",$E92=\"\"),\"\",$C79&$A79&80)","v":""},{"$f":"IF(OR($A79=\"\",$E92=\"\"),\"\",$B79)","v":""},{"$f":"IF(OR($A79=\"\",$E92=\"\"),\"\",$C79)","v":""},{"$f":"IF(OR($A79=\"\",$E92=\"\"),\"\",$D79)","v":""},null,null,null,null,null,"選手8"]
[{"$f":"IF(OR($A79=\"\",$E93=\"\"),\"\",$C79&$A79&90)","v":""},{"$f":"IF(OR($A79=\"\",$E93=\"\"),\"\",$B79)","v":""},{"$f":"IF(OR($A79=\"\",$E93=\"\"),\"\",$C79)","v":""},{"$f":"IF(OR($A79=\"\",$E93=\"\"),\"\",$D79)","v":""},null,null,null,null,null,"選手9"]
[{"$f":"IF(OR($A79=\"\",$E94=\"\"),\"\",$C79&$A79&99)","v":""},{"$f":"IF(OR($A79=\"\",$E94=\"\"),\"\",$B79)","v":""},{"$f":"IF(OR($A79=\"\",$E94=\"\"),\"\",$C79)","v":""},{"$f":"IF(OR($A79=\"\",$E94=\"\"),\"\",$D79)","v":""},null,null,null,null,null,"選手10"]
["チームcd","申込部門","部門cd","チーム名","市町名","加盟団体","参加料cd","参加料","申込責任者氏名",null,"連絡先",null,null,"表示用チーム名"]
[{"$f":"IF(OR($A79=\"\",$B96=\"\"),\"\",$A79+1)","v":""},null,{"$f":"IF($B96=\"\",\"\",VLOOKUP($B96,$R$11:$S$22,2,FALSE))","v":""},null,null,null,null,{"$f":"IF(G96=\"\",\"\",VLOOKUP(G96,$V$11:$W$16,2,FALSE))","v":""},{"$f":"IF($D96=\"\",\"\",$D$8)","v":""},null,{"$f":"IF($D96=\"\",\"\",$D$9)","v":""},null,null,{"$f":"IF(D96=\"\",\"\",D96&\"　\"&C96&\"　\"&F96)","v":""}]
[{"$f":"IF(C96=\"\",\"\",\"Ａの部は男子複,女子複,混合複で構成。\")","v":""},null,null,null,"氏名","入金日","方法","確認日",null,"選手区分",{"$f":"K80+1","v":6}]
[{"$f":"IF(C96=\"\",\"\",\"Ｂの部は混合複×３で構成。\")","v":""},null,null,"監督",null,null,null,null,null,"監督"]
[{"$f":"IF(C96=\"\",\"\",\"当日３人までの変更可能\")","v":""},null,null,"ｺｰﾁ",null,null,null,null,null,"ｺｰﾁ"]
[null,null,null,"ﾏﾈｰｼﾞｬｰ",null,null,null,null,null,"ﾏﾈｰｼﾞｬｰ"]
["選手cd","申込部門","部門cd","チーム名","選手氏名","日バ登録番号","小中高\n大一般","登録団体名","性別","選手区分"]
[{"$f":"IF($A96=\"\",\"\",$C96&$A96&10)","v":""},{"$f":"IF($B96=\"\",\"\",$B96)","v":""},{"$f":"IF($C96=\"\",\"\",$C96)","v":""},{"$f":"IF($D96=\"\",\"\",$D96)","v":""},null,null,null,null,null,"選手1"]
[{"$f":"IF($A96=\"\",\"\",$C96&$A96&20)","v":""},{"$f":"IF($B96=\"\",\"\",$B96)","v":""},{"$f":"IF($C96=\"\",\"\",$C96)","v":""},{"$f":"IF($D96=\"\",\"\",$D96)","v":""},null,null,null,null,null,"選手2"]
[{"$f":"IF($A96=\"\",\"\",$C96&$A96&30)","v":""},{"$f":"IF($B96=\"\",\"\",$B96)","v":""},{"$f":"IF($C96=\"\",\"\",$C96)","v":""},{"$f":"IF($D96=\"\",\"\",$D96)","v":""},null,null,null,null,null,"選手3"]
[{"$f":"IF($A96=\"\",\"\",$C96&$A96&40)","v":""},{"$f":"IF($B96=\"\",\"\",$B96)","v":""},{"$f":"IF($C96=\"\",\"\",$C96)","v":""},{"$f":"IF($D96=\"\",\"\",$D96)","v":""},null,null,null,null,null,"選手4"]
[{"$f":"IF($A96=\"\",\"\",$C96&$A96&50)","v":""},{"$f":"IF($B96=\"\",\"\",$B96)","v":""},{"$f":"IF($C96=\"\",\"\",$C96)","v":""},{"$f":"IF($D96=\"\",\"\",$D96)","v":""},null,null,null,null,null,"選手5"]
[{"$f":"IF($A96=\"\",\"\",$C96&$A96&60)","v":""},{"$f":"IF($B96=\"\",\"\",$B96)","v":""},{"$f":"IF($C96=\"\",\"\",$C96)","v":""},{"$f":"IF($D96=\"\",\"\",$D96)","v":""},null,null,null,null,null,"選手6"]
[{"$f":"IF(OR($A96=\"\",$E108=\"\"),\"\",$C96&$A96&70)","v":""},{"$f":"IF(OR($A96=\"\",$E108=\"\"),\"\",$B96)","v":""},{"$f":"IF(OR($A96=\"\",$E108=\"\"),\"\",$C96)","v":""},{"$f":"IF(OR($A96=\"\",$E108=\"\"),\"\",$D96)","v":""},null,null,null,null,null,"選手7"]
[{"$f":"IF(OR($A96=\"\",$E109=\"\"),\"\",$C96&$A96&80)","v":""},{"$f":"IF(OR($A96=\"\",$E109=\"\"),\"\",$B96)","v":""},{"$f":"IF(OR($A96=\"\",$E109=\"\"),\"\",$C96)","v":""},{"$f":"IF(OR($A96=\"\",$E109=\"\"),\"\",$D96)","v":""},null,null,null,null,null,"選手8"]
[{"$f":"IF(OR($A96=\"\",$E110=\"\"),\"\",$C96&$A96&90)","v":""},{"$f":"IF(OR($A96=\"\",$E110=\"\"),\"\",$B96)","v":""},{"$f":"IF(OR($A96=\"\",$E110=\"\"),\"\",$C96)","v":""},{"$f":"IF(OR($A96=\"\",$E110=\"\"),\"\",$D96)","v":""},null,null,null,null,null,"選手9"]
[{"$f":"IF(OR($A96=\"\",$E111=\"\"),\"\",$C96&$A96&99)","v":""},{"$f":"IF(OR($A96=\"\",$E111=\"\"),\"\",$B96)","v":""},{"$f":"IF(OR($A96=\"\",$E111=\"\"),\"\",$C96)","v":""},{"$f":"IF(OR($A96=\"\",$E111=\"\"),\"\",$D96)","v":""},null,null,null,null,null,"選手10"]
["チームcd","申込部門","部門cd","チーム名","市町名","加盟団体","参加料cd","参加料","申込責任者氏名",null,"連絡先",null,null,"表示用チーム名"]
[{"$f":"IF(OR($A96=\"\",$B113=\"\"),\"\",$A96+1)","v":""},null,{"$f":"IF($B113=\"\",\"\",VLOOKUP($B113,$R$11:$S$22,2,FALSE))","v":""},null,null,null,null,{"$f":"IF(G113=\"\",\"\",VLOOKUP(G113,$V$11:$W$16,2,FALSE))","v":""},{"$f":"IF($D113=\"\",\"\",$D$8)","v":""},null,{"$f":"IF($D113=\"\",\"\",$D$9)","v":""},null,null,{"$f":"IF(D113=\"\",\"\",D113&\"　\"&C113&\"　\"&F113)","v":""}]
[{"$f":"IF(C113=\"\",\"\",\"Ａの部は男子複,女子複,混合複で構成。\")","v":""},null,null,null,"氏名","入金日","方法","確認日",null,"選手区分",{"$f":"K97+1","v":7}]
[{"$f":"IF(C113=\"\",\"\",\"Ｂの部は混合複×３で構成。\")","v":""},null,null,"監督",null,null,null,null,null,"監督"]
[{"$f":"IF(C113=\"\",\"\",\"当日３人までの変更可能\")","v":""},null,null,"ｺｰﾁ",null,null,null,null,null,"ｺｰﾁ"]
[null,null,null,"ﾏﾈｰｼﾞｬｰ",null,null,null,null,null,"ﾏﾈｰｼﾞｬｰ"]
["選手cd","申込部門","部門cd","チーム名","選手氏名","日バ登録番号","小中高\n大一般","登録団体名","性別","選手区分"]
[{"$f":"IF($A113=\"\",\"\",$C113&$A113&10)","v":""},{"$f":"IF($B113=\"\",\"\",$B113)","v":""},{"$f":"IF($C113=\"\",\"\",$C113)","v":""},{"$f":"IF($D113=\"\",\"\",$D113)","v":""},null,null,null,null,null,"選手1"]
[{"$f":"IF($A113=\"\",\"\",$C113&$A113&20)","v":""},{"$f":"IF($B113=\"\",\"\",$B113)","v":""},{"$f":"IF($C113=\"\",\"\",$C113)","v":""},{"$f":"IF($D113=\"\",\"\",$D113)","v":""},null,null,null,null,null,"選手2"]
[{"$f":"IF($A113=\"\",\"\",$C113&$A113&30)","v":""},{"$f":"IF($B113=\"\",\"\",$B113)","v":""},{"$f":"IF($C113=\"\",\"\",$C113)","v":""},{"$f":"IF($D113=\"\",\"\",$D113)","v":""},null,null,null,null,null,"選手3"]
[{"$f":"IF($A113=\"\",\"\",$C113&$A113&40)","v":""},{"$f":"IF($B113=\"\",\"\",$B113)","v":""},{"$f":"IF($C113=\"\",\"\",$C113)","v":""},{"$f":"IF($D113=\"\",\"\",$D113)","v":""},null,null,null,null,null,"選手4"]
[{"$f":"IF($A113=\"\",\"\",$C113&$A113&50)","v":""},{"$f":"IF($B113=\"\",\"\",$B113)","v":""},{"$f":"IF($C113=\"\",\"\",$C113)","v":""},{"$f":"IF($D113=\"\",\"\",$D113)","v":""},null,null,null,null,null,"選手5"]
[{"$f":"IF($A113=\"\",\"\",$C113&$A113&60)","v":""},{"$f":"IF($B113=\"\",\"\",$B113)","v":""},{"$f":"IF($C113=\"\",\"\",$C113)","v":""},{"$f":"IF($D113=\"\",\"\",$D113)","v":""},null,null,null,null,null,"選手6"]
[{"$f":"IF(OR($A113=\"\",$E125=\"\"),\"\",$C113&$A113&70)","v":""},{"$f":"IF(OR($A113=\"\",$E125=\"\"),\"\",$B113)","v":""},{"$f":"IF(OR($A113=\"\",$E125=\"\"),\"\",$C113)","v":""},{"$f":"IF(OR($A113=\"\",$E125=\"\"),\"\",$D113)","v":""},null,null,null,null,null,"選手7"]
[{"$f":"IF(OR($A113=\"\",$E126=\"\"),\"\",$C113&$A113&80)","v":""},{"$f":"IF(OR($A113=\"\",$E126=\"\"),\"\",$B113)","v":""},{"$f":"IF(OR($A113=\"\",$E126=\"\"),\"\",$C113)","v":""},{"$f":"IF(OR($A113=\"\",$E126=\"\"),\"\",$D113)","v":""},null,null,null,null,null,"選手8"]
[{"$f":"IF(OR($A113=\"\",$E127=\"\"),\"\",$C113&$A113&90)","v":""},{"$f":"IF(OR($A113=\"\",$E127=\"\"),\"\",$B113)","v":""},{"$f":"IF(OR($A113=\"\",$E127=\"\"),\"\",$C113)","v":""},{"$f":"IF(OR($A113=\"\",$E127=\"\"),\"\",$D113)","v":""},null,null,null,null,null,"選手9"]
[{"$f":"IF(OR($A113=\"\",$E128=\"\"),\"\",$C113&$A113&99)","v":""},{"$f":"IF(OR($A113=\"\",$E128=\"\"),\"\",$B113)","v":""},{"$f":"IF(OR($A113=\"\",$E128=\"\"),\"\",$C113)","v":""},{"$f":"IF(OR($A113=\"\",$E128=\"\"),\"\",$D113)","v":""},null,null,null,null,null,"選手10"]
["チームcd","申込部門","部門cd","チーム名","市町名","加盟団体","参加料cd","参加料","申込責任者氏名",null,"連絡先",null,null,"表示用チーム名"]
[{"$f":"IF(OR($A113=\"\",$B130=\"\"),\"\",$A113+1)","v":""},null,{"$f":"IF($B130=\"\",\"\",VLOOKUP($B130,$R$11:$S$22,2,FALSE))","v":""},null,null,null,null,{"$f":"IF(G130=\"\",\"\",VLOOKUP(G130,$V$11:$W$16,2,FALSE))","v":""},{"$f":"IF($D130=\"\",\"\",$D$8)","v":""},null,{"$f":"IF($D130=\"\",\"\",$D$9)","v":""},null,null,{"$f":"IF(D130=\"\",\"\",D130&\"　\"&C130&\"　\"&F130)","v":""}]
[{"$f":"IF(C130=\"\",\"\",\"Ａの部は男子複,女子複,混合複で構成。\")","v":""},null,null,null,"氏名","入金日","方法","確認日",null,"選手区分",{"$f":"K114+1","v":8}]
[{"$f":"IF(C130=\"\",\"\",\"Ｂの部は混合複×３で構成。\")","v":""},null,null,"監督",null,null,null,null,null,"監督"]
[{"$f":"IF(C130=\"\",\"\",\"当日３人までの変更可能\")","v":""},null,null,"ｺｰﾁ",null,null,null,null,null,"ｺｰﾁ"]
[null,null,null,"ﾏﾈｰｼﾞｬｰ",null,null,null,null,null,"ﾏﾈｰｼﾞｬｰ"]
["選手cd","申込部門","部門cd","チーム名","選手氏名","日バ登録番号","小中高\n大一般","登録団体名","性別","選手区分"]
[{"$f":"IF($A130=\"\",\"\",$C130&$A130&10)","v":""},{"$f":"IF($B130=\"\",\"\",$B130)","v":""},{"$f":"IF($C130=\"\",\"\",$C130)","v":""},{"$f":"IF($D130=\"\",\"\",$D130)","v":""},null,null,null,null,null,"選手1"]
[{"$f":"IF($A130=\"\",\"\",$C130&$A130&20)","v":""},{"$f":"IF($B130=\"\",\"\",$B130)","v":""},{"$f":"IF($C130=\"\",\"\",$C130)","v":""},{"$f":"IF($D130=\"\",\"\",$D130)","v":""},null,null,null,null,null,"選手2"]
[{"$f":"IF($A130=\"\",\"\",$C130&$A130&30)","v":""},{"$f":"IF($B130=\"\",\"\",$B130)","v":""},{"$f":"IF($C130=\"\",\"\",$C130)","v":""},{"$f":"IF($D130=\"\",\"\",$D130)","v":""},null,null,null,null,null,"選手3"]
[{"$f":"IF($A130=\"\",\"\",$C130&$A130&40)","v":""},{"$f":"IF($B130=\"\",\"\",$B130)","v":""},{"$f":"IF($C130=\"\",\"\",$C130)","v":""},{"$f":"IF($D130=\"\",\"\",$D130)","v":""},null,null,null,null,null,"選手4"]
[{"$f":"IF($A130=\"\",\"\",$C130&$A130&50)","v":""},{"$f":"IF($B130=\"\",\"\",$B130)","v":""},{"$f":"IF($C130=\"\",\"\",$C130)","v":""},{"$f":"IF($D130=\"\",\"\",$D130)","v":""},null,null,null,null,null,"選手5"]
[{"$f":"IF($A130=\"\",\"\",$C130&$A130&60)","v":""},{"$f":"IF($B130=\"\",\"\",$B130)","v":""},{"$f":"IF($C130=\"\",\"\",$C130)","v":""},{"$f":"IF($D130=\"\",\"\",$D130)","v":""},null,null,null,null,null,"選手6"]
[{"$f":"IF(OR($A130=\"\",$E142=\"\"),\"\",$C130&$A130&70)","v":""},{"$f":"IF(OR($A130=\"\",$E142=\"\"),\"\",$B130)","v":""},{"$f":"IF(OR($A130=\"\",$E142=\"\"),\"\",$C130)","v":""},{"$f":"IF(OR($A130=\"\",$E142=\"\"),\"\",$D130)","v":""},null,null,null,null,null,"選手7"]
[{"$f":"IF(OR($A130=\"\",$E143=\"\"),\"\",$C130&$A130&60)","v":""},{"$f":"IF(OR($A130=\"\",$E143=\"\"),\"\",$B130)","v":""},{"$f":"IF(OR($A130=\"\",$E143=\"\"),\"\",$C130)","v":""},{"$f":"IF(OR($A130=\"\",$E143=\"\"),\"\",$D130)","v":""},null,null,null,null,null,"選手8"]
[{"$f":"IF(OR($A130=\"\",$E144=\"\"),\"\",$C130&$A130&70)","v":""},{"$f":"IF(OR($A130=\"\",$E144=\"\"),\"\",$B130)","v":""},{"$f":"IF(OR($A130=\"\",$E144=\"\"),\"\",$C130)","v":""},{"$f":"IF(OR($A130=\"\",$E144=\"\"),\"\",$D130)","v":""},null,null,null,null,null,"選手9"]
[{"$f":"IF(OR($A130=\"\",$E145=\"\"),\"\",$C130&$A130&99)","v":""},{"$f":"IF(OR($A130=\"\",$E145=\"\"),\"\",$B130)","v":""},{"$f":"IF(OR($A130=\"\",$E145=\"\"),\"\",$C130)","v":""},{"$f":"IF(OR($A130=\"\",$E145=\"\"),\"\",$D130)","v":""},null,null,null,null,null,"選手10"]
["チームcd","申込部門","部門cd","チーム名","市町名","加盟団体","参加料cd","参加料","申込責任者氏名",null,"連絡先",null,null,"表示用チーム名"]
[{"$f":"IF(OR($A130=\"\",$B147=\"\"),\"\",$A130+1)","v":""},null,{"$f":"IF($B147=\"\",\"\",VLOOKUP($B147,$R$11:$S$22,2,FALSE))","v":""},null,null,null,null,{"$f":"IF(G147=\"\",\"\",VLOOKUP(G147,$V$11:$W$16,2,FALSE))","v":""},{"$f":"IF($D147=\"\",\"\",$D$8)","v":""},null,{"$f":"IF($D147=\"\",\"\",$D$9)","v":""},null,null,{"$f":"IF(D147=\"\",\"\",D147&\"　\"&C147&\"　\"&F147)","v":""}]
[{"$f":"IF(C147=\"\",\"\",\"Ａの部は男子複,女子複,混合複で構成。\")","v":""},null,null,null,"氏名","入金日","方法","確認日",null,"選手区分",{"$f":"K131+1","v":9}]
[{"$f":"IF(C147=\"\",\"\",\"Ｂの部は混合複×３で構成。\")","v":""},null,null,"監督",null,null,null,null,null,"監督"]
[{"$f":"IF(C147=\"\",\"\",\"当日３人までの変更可能\")","v":""},null,null,"ｺｰﾁ",null,null,null,null,null,"ｺｰﾁ"]
[null,null,null,"ﾏﾈｰｼﾞｬｰ",null,null,null,null,null,"ﾏﾈｰｼﾞｬｰ"]
["選手cd","申込部門","部門cd","チーム名","選手氏名","日バ登録番号","小中高\n大一般","登録団体名","性別","選手区分"]
[{"$f":"IF($A147=\"\",\"\",$C147&$A147&10)","v":""},{"$f":"IF($B147=\"\",\"\",$B147)","v":""},{"$f":"IF($C147=\"\",\"\",$C147)","v":""},{"$f":"IF($D147=\"\",\"\",$D147)","v":""},null,null,null,null,null,"選手1"]
[{"$f":"IF($A147=\"\",\"\",$C147&$A147&20)","v":""},{"$f":"IF($B147=\"\",\"\",$B147)","v":""},{"$f":"IF($C147=\"\",\"\",$C147)","v":""},{"$f":"IF($D147=\"\",\"\",$D147)","v":""},null,null,null,null,null,"選手2"]
[{"$f":"IF($A147=\"\",\"\",$C147&$A147&30)","v":""},{"$f":"IF($B147=\"\",\"\",$B147)","v":""},{"$f":"IF($C147=\"\",\"\",$C147)","v":""},{"$f":"IF($D147=\"\",\"\",$D147)","v":""},null,null,null,null,null,"選手3"]
[{"$f":"IF($A147=\"\",\"\",$C147&$A147&40)","v":""},{"$f":"IF($B147=\"\",\"\",$B147)","v":""},{"$f":"IF($C147=\"\",\"\",$C147)","v":""},{"$f":"IF($D147=\"\",\"\",$D147)","v":""},null,null,null,null,null,"選手4"]
[{"$f":"IF($A147=\"\",\"\",$C147&$A147&50)","v":""},{"$f":"IF($B147=\"\",\"\",$B147)","v":""},{"$f":"IF($C147=\"\",\"\",$C147)","v":""},{"$f":"IF($D147=\"\",\"\",$D147)","v":""},null,null,null,null,null,"選手5"]
[{"$f":"IF(OR($A147=\"\",$E158=\"\"),\"\",$C147&$A147&60)","v":""},{"$f":"IF(OR($A147=\"\",$E158=\"\"),\"\",$B147)","v":""},{"$f":"IF(OR($A147=\"\",$E158=\"\"),\"\",$C147)","v":""},{"$f":"IF(OR($A147=\"\",$E158=\"\"),\"\",$D147)","v":""},null,null,null,null,null,"選手6"]
[{"$f":"IF(OR($A147=\"\",$E159=\"\"),\"\",$C147&$A147&70)","v":""},{"$f":"IF(OR($A147=\"\",$E159=\"\"),\"\",$B147)","v":""},{"$f":"IF(OR($A147=\"\",$E159=\"\"),\"\",$C147)","v":""},{"$f":"IF(OR($A147=\"\",$E159=\"\"),\"\",$D147)","v":""},null,null,null,null,null,"選手7"]
[{"$f":"IF(OR($A147=\"\",$E160=\"\"),\"\",$C147&$A147&80)","v":""},{"$f":"IF(OR($A147=\"\",$E160=\"\"),\"\",$B147)","v":""},{"$f":"IF(OR($A147=\"\",$E160=\"\"),\"\",$C147)","v":""},{"$f":"IF(OR($A147=\"\",$E160=\"\"),\"\",$D147)","v":""},null,null,null,null,null,"選手8"]
[{"$f":"IF(OR($A147=\"\",$E161=\"\"),\"\",$C147&$A147&90)","v":""},{"$f":"IF(OR($A147=\"\",$E161=\"\"),\"\",$B147)","v":""},{"$f":"IF(OR($A147=\"\",$E161=\"\"),\"\",$C147)","v":""},{"$f":"IF(OR($A147=\"\",$E161=\"\"),\"\",$D147)","v":""},null,null,null,null,null,"選手9"]
[{"$f":"IF(OR($A147=\"\",$E162=\"\"),\"\",$C147&$A147&99)","v":""},{"$f":"IF(OR($A147=\"\",$E162=\"\"),\"\",$B147)","v":""},{"$f":"IF(OR($A147=\"\",$E162=\"\"),\"\",$C147)","v":""},{"$f":"IF(OR($A147=\"\",$E162=\"\"),\"\",$D147)","v":""},null,null,null,null,null,"選手10"]
["チームcd","申込部門","部門cd","チーム名","市町名","加盟団体","参加料cd","参加料","申込責任者氏名",null,"連絡先",null,null,"表示用チーム名"]
[{"$f":"IF(OR($A147=\"\",$B164=\"\"),\"\",$A147+1)","v":""},null,{"$f":"IF($B164=\"\",\"\",VLOOKUP($B164,$R$11:$S$22,2,FALSE))","v":""},null,null,null,null,{"$f":"IF(G164=\"\",\"\",VLOOKUP(G164,$V$11:$W$16,2,FALSE))","v":""},{"$f":"IF($D164=\"\",\"\",$D$8)","v":""},null,{"$f":"IF($D164=\"\",\"\",$D$9)","v":""},null,null,{"$f":"IF(D164=\"\",\"\",D164&\"　\"&C164&\"　\"&F164)","v":""}]
[{"$f":"IF(C164=\"\",\"\",\"Ａの部は男子複,女子複,混合複で構成。\")","v":""},null,null,null,"氏名","入金日","方法","確認日",null,"選手区分",{"$f":"K148+1","v":10}]
[{"$f":"IF(C164=\"\",\"\",\"Ｂの部は混合複×３で構成。\")","v":""},null,null,"監督",null,null,null,null,null,"監督"]
[{"$f":"IF(C164=\"\",\"\",\"当日３人までの変更可能\")","v":""},null,null,"ｺｰﾁ",null,null,null,null,null,"ｺｰﾁ"]
[null,null,null,"ﾏﾈｰｼﾞｬｰ",null,null,null,null,null,"ﾏﾈｰｼﾞｬｰ"]
["選手cd","申込部門","部門cd","チーム名","選手氏名","日バ登録番号","小中高\n大一般","登録団体名","性別","選手区分"]
[{"$f":"IF($A164=\"\",\"\",$C164&$A164&10)","v":""},{"$f":"IF($B164=\"\",\"\",$B164)","v":""},{"$f":"IF($C164=\"\",\"\",$C164)","v":""},{"$f":"IF($D164=\"\",\"\",$D164)","v":""},null,null,null,null,null,"選手1"]
[{"$f":"IF($A164=\"\",\"\",$C164&$A164&20)","v":""},{"$f":"IF($B164=\"\",\"\",$B164)","v":""},{"$f":"IF($C164=\"\",\"\",$C164)","v":""},{"$f":"IF($D164=\"\",\"\",$D164)","v":""},null,null,null,null,null,"選手2"]
[{"$f":"IF($A164=\"\",\"\",$C164&$A164&30)","v":""},{"$f":"IF($B164=\"\",\"\",$B164)","v":""},{"$f":"IF($C164=\"\",\"\",$C164)","v":""},{"$f":"IF($D164=\"\",\"\",$D164)","v":""},null,null,null,null,null,"選手3"]
[{"$f":"IF($A164=\"\",\"\",$C164&$A164&40)","v":""},{"$f":"IF($B164=\"\",\"\",$B164)","v":""},{"$f":"IF($C164=\"\",\"\",$C164)","v":""},{"$f":"IF($D164=\"\",\"\",$D164)","v":""},null,null,null,null,null,"選手4"]
[{"$f":"IF($A164=\"\",\"\",$C164&$A164&50)","v":""},{"$f":"IF($B164=\"\",\"\",$B164)","v":""},{"$f":"IF($C164=\"\",\"\",$C164)","v":""},{"$f":"IF($D164=\"\",\"\",$D164)","v":""},null,null,null,null,null,"選手5"]
[{"$f":"IF($A164=\"\",\"\",$C164&$A164&60)","v":""},{"$f":"IF($B164=\"\",\"\",$B164)","v":""},{"$f":"IF($C164=\"\",\"\",$C164)","v":""},{"$f":"IF($D164=\"\",\"\",$D164)","v":""},null,null,null,null,null,"選手6"]
[{"$f":"IF(OR($A164=\"\",$E176=\"\"),\"\",$C164&$A164&70)","v":""},{"$f":"IF(OR($A164=\"\",$E176=\"\"),\"\",$B164)","v":""},{"$f":"IF(OR($A164=\"\",$E176=\"\"),\"\",$C164)","v":""},{"$f":"IF(OR($A164=\"\",$E176=\"\"),\"\",$D164)","v":""},null,null,null,null,null,"選手7"]
[{"$f":"IF(OR($A164=\"\",$E177=\"\"),\"\",$C164&$A164&80)","v":""},{"$f":"IF(OR($A164=\"\",$E177=\"\"),\"\",$B164)","v":""},{"$f":"IF(OR($A164=\"\",$E177=\"\"),\"\",$C164)","v":""},{"$f":"IF(OR($A164=\"\",$E177=\"\"),\"\",$D164)","v":""},null,null,null,null,null,"選手8"]
[{"$f":"IF(OR($A164=\"\",$E178=\"\"),\"\",$C164&$A164&90)","v":""},{"$f":"IF(OR($A164=\"\",$E178=\"\"),\"\",$B164)","v":""},{"$f":"IF(OR($A164=\"\",$E178=\"\"),\"\",$C164)","v":""},{"$f":"IF(OR($A164=\"\",$E178=\"\"),\"\",$D164)","v":""},null,null,null,null,null,"選手9"]
[{"$f":"IF(OR($A164=\"\",$E179=\"\"),\"\",$C164&$A164&99)","v":""},{"$f":"IF(OR($A164=\"\",$E179=\"\"),\"\",$B164)","v":""},{"$f":"IF(OR($A164=\"\",$E179=\"\"),\"\",$C164)","v":""},{"$f":"IF(OR($A164=\"\",$E179=\"\"),\"\",$D164)","v":""},null,null,null,null,null,"選手10"]

{"sheet":"集計表","index":1,"n_rows":71,"n_cols":33,"rows_kept":71,"cut":false,"hidden":false,"merged":[[24,1,24,5]]}
[null,"第22回　福井県春季クラブ対抗バドミントン大会　参加申込書 集計表",null,null,null,null,null,null,null,null,null,null,null,"申込書（直接入力用）へ",null,null,null,null,null,null,null,null,null,null,null,null,"参加チーム名",null,"選手氏名","小中高一般","登録番号","登録団体名","性別"]
[null,null,null,null,null,null,null,null,null,null,null,null,null,null,null,null,null,null,null,null,null,null,null,null,null,null,{"$f":"'申込書（ｸﾗﾌﾞ事務局用）'!$K$12","v":1},{"$f":"'申込書（ｸﾗﾌﾞ事務局用）'!$D$11","v":0},{"$f":"'申込書（ｸﾗﾌﾞ事務局用）'!E17","v":0},{"$f":"'申込書（ｸﾗﾌﾞ事務局用）'!F17","v":0},{"$f":"'申込書（ｸﾗﾌﾞ事務局用）'!G17","v":0},{"$f":"'申込書（ｸﾗﾌﾞ事務局用）'!H17","v":0},{"$f":"'申込書（ｸﾗﾌﾞ事務局用）'!I17","v":0}]
[null,"クラブ名",{"$f":"'申込書（ｸﾗﾌﾞ事務局用）'!$D$7","v":0},null,null,null,null,null,null,null,null,null,null,null,null,null,null,null,null,null,null,null,null,null,null,null,{"$f":"'申込書（ｸﾗﾌﾞ事務局用）'!$K$12","v":1},{"$f":"'申込書（ｸﾗﾌﾞ事務局用）'!$D$11","v":0},{"$f":"'申込書（ｸﾗﾌﾞ事務局用）'!E18","v":0},{"$f":"'申込書（ｸﾗﾌﾞ事務局用）'!F18","v":0},{"$f":"'申込書（ｸﾗﾌﾞ事務局用）'!G18","v":0},{"$f":"'申込書（ｸﾗﾌﾞ事務局用）'!H18","v":0},{"$f":"'申込書（ｸﾗﾌﾞ事務局用）'!I18","v":0}]
[null,"申込責任者",{"$f":"'申込書（ｸﾗﾌﾞ事務局用）'!$D$8","v":0},null,null,null,null,null,null,null,null,null,null,null,null,null,null,null,null,null,null,null,null,null,null,null,{"$f":"'申込書（ｸﾗﾌﾞ事務局用）'!$K$12","v":1},{"$f":"'申込書（ｸﾗﾌﾞ事務局用）'!$D$11","v":0},{"$f":"'申込書（ｸﾗﾌﾞ事務局用）'!E19","v":0},{"$f":"'申込書（ｸﾗﾌﾞ事務局用）'!F19","v":0},{"$f":"'申込書（ｸﾗﾌﾞ事務局用）'!G19","v":0},{"$f":"'申込書（ｸﾗﾌﾞ事務局用）'!H19","v":0},{"$f":"'申込書（ｸﾗﾌﾞ事務局用）'!I19","v":0}]
[null,null,null,null,null,null,null,null,null,null,null,null,null,null,null,null,null,null,null,null,null,null,null,null,null,null,{"$f":"'申込書（ｸﾗﾌﾞ事務局用）'!$K$12","v":1},{"$f":"'申込書（ｸﾗﾌﾞ事務局用）'!$D$11","v":0},{"$f":"'申込書（ｸﾗﾌﾞ事務局用）'!E20","v":0},{"$f":"'申込書（ｸﾗﾌﾞ事務局用）'!F20","v":0},{"$f":"'申込書（ｸﾗﾌﾞ事務局用）'!G20","v":0},{"$f":"'申込書（ｸﾗﾌﾞ事務局用）'!H20","v":0},{"$f":"'申込書（ｸﾗﾌﾞ事務局用）'!I20","v":0}]
[null,null,null,null,null,null,"チーム数",null,null,null,"参加料","チーム数","参加料",null,null,null,null,null,null,null,null,null,null,null,null,null,{"$f":"'申込書（ｸﾗﾌﾞ事務局用）'!$K$12","v":1},{"$f":"'申込書（ｸﾗﾌﾞ事務局用）'!$D$11","v":0},{"$f":"'申込書（ｸﾗﾌﾞ事務局用）'!E21","v":0},{"$f":"'申込書（ｸﾗﾌﾞ事務局用）'!F21","v":0},{"$f":"'申込書（ｸﾗﾌﾞ事務局用）'!G21","v":0},{"$f":"'申込書（ｸﾗﾌﾞ事務局用）'!H21","v":0},{"$f":"'申込書（ｸﾗﾌﾞ事務局用）'!I21","v":0}]
[null,null,null,null,"A1","Ａ１部",{"$f":"COUNTIF($G$26:$H$35,$E7)","v":0},null,1,"Ａ 一般",4000,{"$f":"COUNTIF($J$26:$J$35,$J7)","v":0},{"$f":"SUMIF($J$26:$K$35,$J7,$K$26:$K$35)","v":0},null,null,null,null,null,null,null,null,null,null,null,null,null,{"$f":"'申込書（ｸﾗﾌﾞ事務局用）'!$K$12","v":1},{"$f":"'申込書（ｸﾗﾌﾞ事務局用）'!$D$11","v":0},{"$f":"'申込書（ｸﾗﾌﾞ事務局用）'!E23","v":0},{"$f":"'申込書（ｸﾗﾌﾞ事務局用）'!F23","v":0},{"$f":"'申込書（ｸﾗﾌﾞ事務局用）'!G23","v":0},{"$f":"'申込書（ｸﾗﾌﾞ事務局用）'!H23","v":0},{"$f":"'申込書（ｸﾗﾌﾞ事務局用）'!I23","v":0}]
[null,null,null,null,"A2","Ａ２部",{"$f":"COUNTIF($G$26:$H$35,$E8)","v":0},null,2,"Ａ 高校",3000,{"$f":"COUNTIF($J$26:$J$35,$J8)","v":0},{"$f":"SUMIF($J$26:$K$35,$J8,$K$26:$K$35)","v":0},null,null,null,null,null,null,null,null,null,null,null,null,null,{"$f":"'申込書（ｸﾗﾌﾞ事務局用）'!$K$12","v":1},{"$f":"'申込書（ｸﾗﾌﾞ事務局用）'!$D$11","v":0},{"$f":"'申込書（ｸﾗﾌﾞ事務局用）'!E26","v":0},{"$f":"'申込書（ｸﾗﾌﾞ事務局用）'!F26","v":0},{"$f":"'申込書（ｸﾗﾌﾞ事務局用）'!G26","v":0},{"$f":"'申込書（ｸﾗﾌﾞ事務局用）'!H26","v":0},{"$f":"'申込書（ｸﾗﾌﾞ事務局用）'!I26","v":0}]
[null,null,null,null,"A3","Ａ３部",{"$f":"COUNTIF($G$26:$H$35,$E9)","v":0},null,3,"Ａ 小中",2000,{"$f":"COUNTIF($J$26:$J$35,$J9)","v":0},{"$f":"SUMIF($J$26:$K$35,$J9,$K$26:$K$35)","v":0},null,null,null,null,null,null,null,null,null,null,null,null,null,{"$f":"'申込書（ｸﾗﾌﾞ事務局用）'!$K$29","v":2},{"$f":"'申込書（ｸﾗﾌﾞ事務局用）'!$D$28","v":0},{"$f":"'申込書（ｸﾗﾌﾞ事務局用）'!E34","v":0},{"$f":"'申込書（ｸﾗﾌﾞ事務局用）'!F34","v":0},{"$f":"'申込書（ｸﾗﾌﾞ事務局用）'!G34","v":0},{"$f":"'申込書（ｸﾗﾌﾞ事務局用）'!H34","v":0},{"$f":"'申込書（ｸﾗﾌﾞ事務局用）'!I34","v":0}]
[null,null,null,null,null,"小計",{"$f":"SUM(G7:G9)","v":0},null,null,"小計",null,{"$f":"SUM(L7:L9)","v":0},{"$f":"SUM(M7:M9)","v":0},null,null,null,null,null,null,null,null,null,null,null,null,null,{"$f":"'申込書（ｸﾗﾌﾞ事務局用）'!$K$29","v":2},{"$f":"'申込書（ｸﾗﾌﾞ事務局用）'!$D$28","v":0},{"$f":"'申込書（ｸﾗﾌﾞ事務局用）'!E35","v":0},{"$f":"'申込書（ｸﾗﾌﾞ事務局用）'!F35","v":0},{"$f":"'申込書（ｸﾗﾌﾞ事務局用）'!G35","v":0},{"$f":"'申込書（ｸﾗﾌﾞ事務局用）'!H35","v":0},{"$f":"'申込書（ｸﾗﾌﾞ事務局用）'!I35","v":0}]
[null,null,null,null,"A4","Ａ４部",{"$f":"COUNTIF($G$26:$H$35,$E11)","v":0},null,4,"Ｂ 一般",{"$f":"K7","v":4000},{"$f":"COUNTIF($J$26:$J$35,$J11)","v":0},{"$f":"SUMIF($J$26:$K$35,$J11,$K$26:$K$35)","v":0},null,null,null,null,null,null,null,null,null,null,null,null,null,{"$f":"'申込書（ｸﾗﾌﾞ事務局用）'!$K$29","v":2},{"$f":"'申込書（ｸﾗﾌﾞ事務局用）'!$D$28","v":0},{"$f":"'申込書（ｸﾗﾌﾞ事務局用）'!E36","v":0},{"$f":"'申込書（ｸﾗﾌﾞ事務局用）'!F36","v":0},{"$f":"'申込書（ｸﾗﾌﾞ事務局用）'!G36","v":0},{"$f":"'申込書（ｸﾗﾌﾞ事務局用）'!H36","v":0},{"$f":"'申込書（ｸﾗﾌﾞ事務局用）'!I36","v":0}]
[null,null,null,null,null,null,{"$f":"COUNTIF($G$26:$H$35,$E12)","v":0},null,5,"Ｂ 高校",{"$f":"K8","v":3000},{"$f":"COUNTIF($J$26:$J$35,$J12)","v":0},{"$f":"SUMIF($J$26:$K$35,$J12,$K$26:$K$35)","v":0},null,null,null,null,null,null,null,null,null,null,null,null,null,{"$f":"'申込書（ｸﾗﾌﾞ事務局用）'!$K$29","v":2},{"$f":"'申込書（ｸﾗﾌﾞ事務局用）'!$D$28","v":0},{"$f":"'申込書（ｸﾗﾌﾞ事務局用）'!E37","v":0},{"$f":"'申込書（ｸﾗﾌﾞ事務局用）'!F37","v":0},{"$f":"'申込書（ｸﾗﾌﾞ事務局用）'!G37","v":0},{"$f":"'申込書（ｸﾗﾌﾞ事務局用）'!H37","v":0},{"$f":"'申込書（ｸﾗﾌﾞ事務局用）'!I37","v":0}]
[null,null,null,null,null,null,{"$f":"COUNTIF($G$26:$H$35,$E13)","v":0},null,6,"Ｂ 小中",{"$f":"K9","v":2000},{"$f":"COUNTIF($J$26:$J$35,$J13)","v":0},{"$f":"SUMIF($J$26:$K$35,$J13,$K$26:$K$35)","v":0},null,null,null,null,null,null,null,null,null,null,null,null,null,{"$f":"'申込書（ｸﾗﾌﾞ事務局用）'!$K$29","v":2},{"$f":"'申込書（ｸﾗﾌﾞ事務局用）'!$D$28","v":0},{"$f":"'申込書（ｸﾗﾌﾞ事務局用）'!E38","v":0},{"$f":"'申込書（ｸﾗﾌﾞ事務局用）'!F38","v":0},{"$f":"'申込書（ｸﾗﾌﾞ事務局用）'!G38","v":0},{"$f":"'申込書（ｸﾗﾌﾞ事務局用）'!H38","v":0},{"$f":"'申込書（ｸﾗﾌﾞ事務局用）'!I38","v":0}]
[null,null,null,null,null,"小計",{"$f":"SUM(G10:G13)","v":0},null,null,"小計",null,{"$f":"SUM(L11:L13)","v":0},{"$f":"SUM(M11:M13)","v":0},null,null,null,null,null,null,null,null,null,null,null,null,null,{"$f":"'申込書（ｸﾗﾌﾞ事務局用）'!$K$29","v":2},{"$f":"'申込書（ｸﾗﾌﾞ事務局用）'!$D$28","v":0},{"$f":"'申込書（ｸﾗﾌﾞ事務局用）'!E42","v":0},{"$f":"'申込書（ｸﾗﾌﾞ事務局用）'!F42","v":0},{"$f":"'申込書（ｸﾗﾌﾞ事務局用）'!G42","v":0},{"$f":"'申込書（ｸﾗﾌﾞ事務局用）'!H42","v":0},{"$f":"'申込書（ｸﾗﾌﾞ事務局用）'!I42","v":0}]
[null,null,null,null,"B1","Ｂ１部",{"$f":"COUNTIF($G$26:$H$35,$E15)","v":0},null,null,"合計",null,{"$f":"SUM(L10,L14)","v":0},{"$f":"SUM(M10,M14)","v":0},null,null,null,null,null,null,null,null,null,null,null,null,null,{"$f":"'申込書（ｸﾗﾌﾞ事務局用）'!$K$29","v":2},{"$f":"'申込書（ｸﾗﾌﾞ事務局用）'!$D$28","v":0},{"$f":"'申込書（ｸﾗﾌﾞ事務局用）'!E43","v":0},{"$f":"'申込書（ｸﾗﾌﾞ事務局用）'!F43","v":0},{"$f":"'申込書（ｸﾗﾌﾞ事務局用）'!G43","v":0},{"$f":"'申込書（ｸﾗﾌﾞ事務局用）'!H43","v":0},{"$f":"'申込書（ｸﾗﾌﾞ事務局用）'!I43","v":0}]
[null,null,null,null,"B2","Ｂ２部",{"$f":"COUNTIF($G$26:$H$35,$E16)","v":0},null,null,null,null,null,null,null,null,null,null,null,null,null,null,null,null,null,null,null,{"$f":"'申込書（ｸﾗﾌﾞ事務局用）'!$K$46","v":3},{"$f":"'申込書（ｸﾗﾌﾞ事務局用）'!$D$45","v":0},{"$f":"'申込書（ｸﾗﾌﾞ事務局用）'!E51","v":0},{"$f":"'申込書（ｸﾗﾌﾞ事務局用）'!F51","v":0},{"$f":"'申込書（ｸﾗﾌﾞ事務局用）'!G51","v":0},{"$f":"'申込書（ｸﾗﾌﾞ事務局用）'!H51","v":0},{"$f":"'申込書（ｸﾗﾌﾞ事務局用）'!I51","v":0}]
[null,null,null,null,"B3","Ｂ３部",{"$f":"COUNTIF($G$26:$H$35,$E17)","v":0},null,null,null,null,null,null,null,null,null,null,null,null,null,null,null,null,null,null,null,{"$f":"'申込書（ｸﾗﾌﾞ事務局用）'!$K$46","v":3},{"$f":"'申込書（ｸﾗﾌﾞ事務局用）'!$D$45","v":0},{"$f":"'申込書（ｸﾗﾌﾞ事務局用）'!E52","v":0},{"$f":"'申込書（ｸﾗﾌﾞ事務局用）'!F52","v":0},{"$f":"'申込書（ｸﾗﾌﾞ事務局用）'!G52","v":0},{"$f":"'申込書（ｸﾗﾌﾞ事務局用）'!H52","v":0},{"$f":"'申込書（ｸﾗﾌﾞ事務局用）'!I52","v":0}]
[null,null,null,null,null,"小計",{"$f":"SUM(G15:G17)","v":0},null,null,null,null,null,null,null,null,null,null,null,null,null,null,null,null,null,null,null,{"$f":"'申込書（ｸﾗﾌﾞ事務局用）'!$K$46","v":3},{"$f":"'申込書（ｸﾗﾌﾞ事務局用）'!$D$45","v":0},{"$f":"'申込書（ｸﾗﾌﾞ事務局用）'!E53","v":0},{"$f":"'申込書（ｸﾗﾌﾞ事務局用）'!F53","v":0},{"$f":"'申込書（ｸﾗﾌﾞ事務局用）'!G53","v":0},{"$f":"'申込書（ｸﾗﾌﾞ事務局用）'!H53","v":0},{"$f":"'申込書（ｸﾗﾌﾞ事務局用）'!I53","v":0}]
[null,null,null,null,"B4","Ｂ４部",{"$f":"COUNTIF($G$26:$H$35,$E19)","v":0},null,null,null,null,null,null,null,null,null,null,null,null,null,null,null,null,null,null,null,{"$f":"'申込書（ｸﾗﾌﾞ事務局用）'!$K$46","v":3},{"$f":"'申込書（ｸﾗﾌﾞ事務局用）'!$D$45","v":0},{"$f":"'申込書（ｸﾗﾌﾞ事務局用）'!E54","v":0},{"$f":"'申込書（ｸﾗﾌﾞ事務局用）'!F54","v":0},{"$f":"'申込書（ｸﾗﾌﾞ事務局用）'!G54","v":0},{"$f":"'申込書（ｸﾗﾌﾞ事務局用）'!H54","v":0},{"$f":"'申込書（ｸﾗﾌﾞ事務局用）'!I54","v":0}]
[null,null,null,null,null,null,{"$f":"COUNTIF($G$26:$H$35,$E20)","v":0},null,null,null,null,null,null,null,null,null,null,null,null,null,null,null,null,null,null,null,{"$f":"'申込書（ｸﾗﾌﾞ事務局用）'!$K$46","v":3},{"$f":"'申込書（ｸﾗﾌﾞ事務局用）'!$D$45","v":0},{"$f":"'申込書（ｸﾗﾌﾞ事務局用）'!E55","v":0},{"$f":"'申込書（ｸﾗﾌﾞ事務局用）'!F55","v":0},{"$f":"'申込書（ｸﾗﾌﾞ事務局用）'!G55","v":0},{"$f":"'申込書（ｸﾗﾌﾞ事務局用）'!H55","v":0},{"$f":"'申込書（ｸﾗﾌﾞ事務局用）'!I55","v":0}]
[null,null,null,null,null,null,{"$f":"COUNTIF($G$26:$H$35,$E21)","v":0},null,null,null,null,null,null,null,null,null,null,null,null,null,null,null,null,null,null,null,{"$f":"'申込書（ｸﾗﾌﾞ事務局用）'!$K$46","v":3},{"$f":"'申込書（ｸﾗﾌﾞ事務局用）'!$D$45","v":0},{"$f":"'申込書（ｸﾗﾌﾞ事務局用）'!E59","v":0},{"$f":"'申込書（ｸﾗﾌﾞ事務局用）'!F59","v":0},{"$f":"'申込書（ｸﾗﾌﾞ事務局用）'!G59","v":0},{"$f":"'申込書（ｸﾗﾌﾞ事務局用）'!H59","v":0},{"$f":"'申込書（ｸﾗﾌﾞ事務局用）'!I59","v":0}]
[null,null,null,null,null,"小計",{"$f":"SUM(G18:G21)","v":0},null,null,null,null,null,null,null,null,null,null,null,null,null,null,null,null,null,null,null,{"$f":"'申込書（ｸﾗﾌﾞ事務局用）'!$K$46","v":3},{"$f":"'申込書（ｸﾗﾌﾞ事務局用）'!$D$45","v":0},{"$f":"'申込書（ｸﾗﾌﾞ事務局用）'!E60","v":0},{"$f":"'申込書（ｸﾗﾌﾞ事務局用）'!F60","v":0},{"$f":"'申込書（ｸﾗﾌﾞ事務局用）'!G60","v":0},{"$f":"'申込書（ｸﾗﾌﾞ事務局用）'!H60","v":0},{"$f":"'申込書（ｸﾗﾌﾞ事務局用）'!I60","v":0}]
[null,null,null,null,null,"合計",{"$f":"SUM(G14,G22)","v":0},null,null,null,null,null,null,null,null,null,null,null,null,null,null,null,null,null,null,null,{"$f":"'申込書（ｸﾗﾌﾞ事務局用）'!$K$63","v":4},{"$f":"'申込書（ｸﾗﾌﾞ事務局用）'!$D$62","v":0},{"$f":"'申込書（ｸﾗﾌﾞ事務局用）'!E68","v":0},{"$f":"'申込書（ｸﾗﾌﾞ事務局用）'!F68","v":0},{"$f":"'申込書（ｸﾗﾌﾞ事務局用）'!G68","v":0},{"$f":"'申込書（ｸﾗﾌﾞ事務局用）'!H68","v":0},{"$f":"'申込書（ｸﾗﾌﾞ事務局用）'!I68","v":0}]
[null,null,null,null,null,null,null,null,null,null,null,null,null,null,null,null,null,null,null,null,null,null,null,null,null,null,{"$f":"'申込書（ｸﾗﾌﾞ事務局用）'!$K$63","v":4},{"$f":"'申込書（ｸﾗﾌﾞ事務局用）'!$D$62","v":0},{"$f":"'申込書（ｸﾗﾌﾞ事務局用）'!E69","v":0},{"$f":"'申込書（ｸﾗﾌﾞ事務局用）'!F69","v":0},{"$f":"'申込書（ｸﾗﾌﾞ事務局用）'!G69","v":0},{"$f":"'申込書（ｸﾗﾌﾞ事務局用）'!H69","v":0},{"$f":"'申込書（ｸﾗﾌﾞ事務局用）'!I69","v":0}]
[null,"参加チーム名",null,null,null,null,"参加部門",null,null,"参加料",null,null,null,"申込書（直接入力用）へ",null,null,null,null,null,null,null,null,null,null,null,null,{"$f":"'申込書（ｸﾗﾌﾞ事務局用）'!$K$63","v":4},{"$f":"'申込書（ｸﾗﾌﾞ事務局用）'!$D$62","v":0},{"$f":"'申込書（ｸﾗﾌﾞ事務局用）'!E70","v":0},{"$f":"'申込書（ｸﾗﾌﾞ事務局用）'!F70","v":0},{"$f":"'申込書（ｸﾗﾌﾞ事務局用）'!G70","v":0},{"$f":"'申込書（ｸﾗﾌﾞ事務局用）'!H70","v":0},{"$f":"'申込書（ｸﾗﾌﾞ事務局用）'!I70","v":0}]
[1,{"$f":"IF('申込書（ｸﾗﾌﾞ事務局用）'!$D11=\"\",\"\",'申込書（ｸﾗﾌﾞ事務局用）'!$D11)","v":""},null,null,null,null,{"$f":"IF('申込書（ｸﾗﾌﾞ事務局用）'!$C11=\"\",\"\",'申込書（ｸﾗﾌﾞ事務局用）'!$C11)","v":""},{"$f":"IF($G26=\"\",\"\",VLOOKUP($G26,$E$7:$F$21,2,FALSE))","v":""},null,{"$f":"IF('申込書（ｸﾗﾌﾞ事務局用）'!$G11=\"\",\"\",'申込書（ｸﾗﾌﾞ事務局用）'!$G11)","v":""},{"$f":"IF($J26=\"\",\"\",VLOOKUP($J26,$J$7:$K$13,2,FALSE))","v":""},null,null,null,null,null,null,null,null,null,null,null,null,null,null,null,{"$f":"'申込書（ｸﾗﾌﾞ事務局用）'!$K$63","v":4},{"$f":"'申込書（ｸﾗﾌﾞ事務局用）'!$D$62","v":0},{"$f":"'申込書（ｸﾗﾌﾞ事務局用）'!E71","v":0},{"$f":"'申込書（ｸﾗﾌﾞ事務局用）'!F71","v":0},{"$f":"'申込書（ｸﾗﾌﾞ事務局用）'!G71","v":0},{"$f":"'申込書（ｸﾗﾌﾞ事務局用）'!H71","v":0},{"$f":"'申込書（ｸﾗﾌﾞ事務局用）'!I71","v":0}]
[2,{"$f":"IF('申込書（ｸﾗﾌﾞ事務局用）'!$D28=\"\",\"\",'申込書（ｸﾗﾌﾞ事務局用）'!$D28)","v":""},null,null,null,null,{"$f":"IF('申込書（ｸﾗﾌﾞ事務局用）'!$C28=\"\",\"\",'申込書（ｸﾗﾌﾞ事務局用）'!$C28)","v":""},{"$f":"IF($G27=\"\",\"\",VLOOKUP($G27,$E$7:$F$21,2,FALSE))","v":""},null,{"$f":"IF('申込書（ｸﾗﾌﾞ事務局用）'!$G28=\"\",\"\",'申込書（ｸﾗﾌﾞ事務局用）'!$G28)","v":""},{"$f":"IF($J27=\"\",\"\",VLOOKUP($J27,$J$7:$K$13,2,FALSE))","v":""},null,null,null,null,null,null,null,null,null,null,null,null,null,null,null,{"$f":"'申込書（ｸﾗﾌﾞ事務局用）'!$K$63","v":4},{"$f":"'申込書（ｸﾗﾌﾞ事務局用）'!$D$62","v":0},{"$f":"'申込書（ｸﾗﾌﾞ事務局用）'!E72","v":0},{"$f":"'申込書（ｸﾗﾌﾞ事務局用）'!F72","v":0},{"$f":"'申込書（ｸﾗﾌﾞ事務局用）'!G72","v":0},{"$f":"'申込書（ｸﾗﾌﾞ事務局用）'!H72","v":0},{"$f":"'申込書（ｸﾗﾌﾞ事務局用）'!I72","v":0}]
[3,{"$f":"IF('申込書（ｸﾗﾌﾞ事務局用）'!$D45=\"\",\"\",'申込書（ｸﾗﾌﾞ事務局用）'!$D45)","v":""},null,null,null,null,{"$f":"IF('申込書（ｸﾗﾌﾞ事務局用）'!$C45=\"\",\"\",'申込書（ｸﾗﾌﾞ事務局用）'!$C45)","v":""},"",null,{"$f":"IF('申込書（ｸﾗﾌﾞ事務局用）'!$G45=\"\",\"\",'申込書（ｸﾗﾌﾞ事務局用）'!$G45)","v":""},"",null,null,null,null,null,null,null,null,null,null,null,null,null,null,null,{"$f":"'申込書（ｸﾗﾌﾞ事務局用）'!$K$63","v":4},{"$f":"'申込書（ｸﾗﾌﾞ事務局用）'!$D$62","v":0},{"$f":"'申込書（ｸﾗﾌﾞ事務局用）'!E76","v":0},{"$f":"'申込書（ｸﾗﾌﾞ事務局用）'!F76","v":0},{"$f":"'申込書（ｸﾗﾌﾞ事務局用）'!G76","v":0},{"$f":"'申込書（ｸﾗﾌﾞ事務局用）'!H76","v":0},{"$f":"'申込書（ｸﾗﾌﾞ事務局用）'!I76","v":0}]
[4,{"$f":"IF('申込書（ｸﾗﾌﾞ事務局用）'!$D62=\"\",\"\",'申込書（ｸﾗﾌﾞ事務局用）'!$D62)","v":""},null,null,null,null,{"$f":"IF('申込書（ｸﾗﾌﾞ事務局用）'!$C62=\"\",\"\",'申込書（ｸﾗﾌﾞ事務局用）'!$C62)","v":""},"",null,{"$f":"IF('申込書（ｸﾗﾌﾞ事務局用）'!$G62=\"\",\"\",'申込書（ｸﾗﾌﾞ事務局用）'!$G62)","v":""},"",null,null,null,null,null,null,null,null,null,null,null,null,null,null,null,{"$f":"'申込書（ｸﾗﾌﾞ事務局用）'!$K$63","v":4},{"$f":"'申込書（ｸﾗﾌﾞ事務局用）'!$D$62","v":0},{"$f":"'申込書（ｸﾗﾌﾞ事務局用）'!E77","v":0},{"$f":"'申込書（ｸﾗﾌﾞ事務局用）'!F77","v":0},{"$f":"'申込書（ｸﾗﾌﾞ事務局用）'!G77","v":0},{"$f":"'申込書（ｸﾗﾌﾞ事務局用）'!H77","v":0},{"$f":"'申込書（ｸﾗﾌﾞ事務局用）'!I77","v":0}]
[5,{"$f":"IF('申込書（ｸﾗﾌﾞ事務局用）'!$D79=\"\",\"\",'申込書（ｸﾗﾌﾞ事務局用）'!$D79)","v":""},null,null,null,null,{"$f":"IF('申込書（ｸﾗﾌﾞ事務局用）'!$C79=\"\",\"\",'申込書（ｸﾗﾌﾞ事務局用）'!$C79)","v":""},"",null,{"$f":"IF('申込書（ｸﾗﾌﾞ事務局用）'!$G79=\"\",\"\",'申込書（ｸﾗﾌﾞ事務局用）'!$G79)","v":""},"",null,null,null,null,null,null,null,null,null,null,null,null,null,null,null,{"$f":"'申込書（ｸﾗﾌﾞ事務局用）'!$K$80","v":5},{"$f":"'申込書（ｸﾗﾌﾞ事務局用）'!$D$79","v":0},{"$f":"'申込書（ｸﾗﾌﾞ事務局用）'!E85","v":0},{"$f":"'申込書（ｸﾗﾌﾞ事務局用）'!F85","v":0},{"$f":"'申込書（ｸﾗﾌﾞ事務局用）'!G85","v":0},{"$f":"'申込書（ｸﾗﾌﾞ事務局用）'!H85","v":0},{"$f":"'申込書（ｸﾗﾌﾞ事務局用）'!I85","v":0}]
[6,{"$f":"IF('申込書（ｸﾗﾌﾞ事務局用）'!$D96=\"\",\"\",'申込書（ｸﾗﾌﾞ事務局用）'!$D96)","v":""},null,null,null,null,{"$f":"IF('申込書（ｸﾗﾌﾞ事務局用）'!$C96=\"\",\"\",'申込書（ｸﾗﾌﾞ事務局用）'!$C96)","v":""},"",null,{"$f":"IF('申込書（ｸﾗﾌﾞ事務局用）'!$G96=\"\",\"\",'申込書（ｸﾗﾌﾞ事務局用）'!$G96)","v":""},"",null,null,null,null,null,null,null,null,null,null,null,null,null,null,null,{"$f":"'申込書（ｸﾗﾌﾞ事務局用）'!$K$80","v":5},{"$f":"'申込書（ｸﾗﾌﾞ事務局用）'!$D$79","v":0},{"$f":"'申込書（ｸﾗﾌﾞ事務局用）'!E86","v":0},{"$f":"'申込書（ｸﾗﾌﾞ事務局用）'!F86","v":0},{"$f":"'申込書（ｸﾗﾌﾞ事務局用）'!G86","v":0},{"$f":"'申込書（ｸﾗﾌﾞ事務局用）'!H86","v":0},{"$f":"'申込書（ｸﾗﾌﾞ事務局用）'!I86","v":0}]
[7,{"$f":"IF('申込書（ｸﾗﾌﾞ事務局用）'!$D113=\"\",\"\",'申込書（ｸﾗﾌﾞ事務局用）'!$D113)","v":""},null,null,null,null,{"$f":"IF('申込書（ｸﾗﾌﾞ事務局用）'!$C113=\"\",\"\",'申込書（ｸﾗﾌﾞ事務局用）'!$C113)","v":""},"",null,{"$f":"IF('申込書（ｸﾗﾌﾞ事務局用）'!$G113=\"\",\"\",'申込書（ｸﾗﾌﾞ事務局用）'!$G113)","v":""},"",null,null,null,null,null,null,null,null,null,null,null,null,null,null,null,{"$f":"'申込書（ｸﾗﾌﾞ事務局用）'!$K$80","v":5},{"$f":"'申込書（ｸﾗﾌﾞ事務局用）'!$D$79","v":0},{"$f":"'申込書（ｸﾗﾌﾞ事務局用）'!E87","v":0},{"$f":"'申込書（ｸﾗﾌﾞ事務局用）'!F87","v":0},{"$f":"'申込書（ｸﾗﾌﾞ事務局用）'!G87","v":0},{"$f":"'申込書（ｸﾗﾌﾞ事務局用）'!H87","v":0},{"$f":"'申込書（ｸﾗﾌﾞ事務局用）'!I87","v":0}]
[8,{"$f":"IF('申込書（ｸﾗﾌﾞ事務局用）'!$D130=\"\",\"\",'申込書（ｸﾗﾌﾞ事務局用）'!$D130)","v":""},null,null,null,null,{"$f":"IF('申込書（ｸﾗﾌﾞ事務局用）'!$C130=\"\",\"\",'申込書（ｸﾗﾌﾞ事務局用）'!$C130)","v":""},"",null,{"$f":"IF('申込書（ｸﾗﾌﾞ事務局用）'!$G130=\"\",\"\",'申込書（ｸﾗﾌﾞ事務局用）'!$G130)","v":""},"",null,null,null,null,null,null,null,null,null,null,null,null,null,null,null,{"$f":"'申込書（ｸﾗﾌﾞ事務局用）'!$K$80","v":5},{"$f":"'申込書（ｸﾗﾌﾞ事務局用）'!$D$79","v":0},{"$f":"'申込書（ｸﾗﾌﾞ事務局用）'!E88","v":0},{"$f":"'申込書（ｸﾗﾌﾞ事務局用）'!F88","v":0},{"$f":"'申込書（ｸﾗﾌﾞ事務局用）'!G88","v":0},{"$f":"'申込書（ｸﾗﾌﾞ事務局用）'!H88","v":0},{"$f":"'申込書（ｸﾗﾌﾞ事務局用）'!I88","v":0}]
[9,{"$f":"IF('申込書（ｸﾗﾌﾞ事務局用）'!$D147=\"\",\"\",'申込書（ｸﾗﾌﾞ事務局用）'!$D147)","v":""},null,null,null,null,{"$f":"IF('申込書（ｸﾗﾌﾞ事務局用）'!$C147=\"\",\"\",'申込書（ｸﾗﾌﾞ事務局用）'!$C147)","v":""},"",null,{"$f":"IF('申込書（ｸﾗﾌﾞ事務局用）'!$G147=\"\",\"\",'申込書（ｸﾗﾌﾞ事務局用）'!$G147)","v":""},"",null,null,"印刷指定画面へ",null,null,null,null,null,null,null,null,null,null,null,null,{"$f":"'申込書（ｸﾗﾌﾞ事務局用）'!$K$80","v":5},{"$f":"'申込書（ｸﾗﾌﾞ事務局用）'!$D$79","v":0},{"$f":"'申込書（ｸﾗﾌﾞ事務局用）'!E89","v":0},{"$f":"'申込書（ｸﾗﾌﾞ事務局用）'!F89","v":0},{"$f":"'申込書（ｸﾗﾌﾞ事務局用）'!G89","v":0},{"$f":"'申込書（ｸﾗﾌﾞ事務局用）'!H89","v":0},{"$f":"'申込書（ｸﾗﾌﾞ事務局用）'!I89","v":0}]
[10,{"$f":"IF('申込書（ｸﾗﾌﾞ事務局用）'!$D164=\"\",\"\",'申込書（ｸﾗﾌﾞ事務局用）'!$D164)","v":""},null,null,null,null,{"$f":"IF('申込書（ｸﾗﾌﾞ事務局用）'!$C164=\"\",\"\",'申込書（ｸﾗﾌﾞ事務局用）'!$C164)","v":""},"",null,{"$f":"IF('申込書（ｸﾗﾌﾞ事務局用）'!$G164=\"\",\"\",'申込書（ｸﾗﾌﾞ事務局用）'!$G164)","v":""},{"$f":"IF($J35=\"\",\"\",VLOOKUP($J35,$J$7:$K$13,2,FALSE))","v":""},null,null,null,null,null,null,null,null,null,null,null,null,null,null,null,{"$f":"'申込書（ｸﾗﾌﾞ事務局用）'!$K$80","v":5},{"$f":"'申込書（ｸﾗﾌﾞ事務局用）'!$D$79","v":0},{"$f":"'申込書（ｸﾗﾌﾞ事務局用）'!E93","v":0},{"$f":"'申込書（ｸﾗﾌﾞ事務局用）'!F93","v":0},{"$f":"'申込書（ｸﾗﾌﾞ事務局用）'!G93","v":0},{"$f":"'申込書（ｸﾗﾌﾞ事務局用）'!H93","v":0},{"$f":"'申込書（ｸﾗﾌﾞ事務局用）'!I93","v":0}]
[null,null,null,null,null,null,null,null,null,null,null,null,null,null,null,null,null,null,null,null,null,null,null,null,null,null,{"$f":"'申込書（ｸﾗﾌﾞ事務局用）'!$K$80","v":5},{"$f":"'申込書（ｸﾗﾌﾞ事務局用）'!$D$79","v":0},{"$f":"'申込書（ｸﾗﾌﾞ事務局用）'!E94","v":0},{"$f":"'申込書（ｸﾗﾌﾞ事務局用）'!F94","v":0},{"$f":"'申込書（ｸﾗﾌﾞ事務局用）'!G94","v":0},{"$f":"'申込書（ｸﾗﾌﾞ事務局用）'!H94","v":0},{"$f":"'申込書（ｸﾗﾌﾞ事務局用）'!I94","v":0}]
[null,null,null,null,null,null,null,null,null,null,null,null,null,null,null,null,null,null,null,null,null,null,null,null,null,null,{"$f":"'申込書（ｸﾗﾌﾞ事務局用）'!$K$97","v":6},{"$f":"'申込書（ｸﾗﾌﾞ事務局用）'!$D$96","v":0},{"$f":"'申込書（ｸﾗﾌﾞ事務局用）'!E102","v":0},{"$f":"'申込書（ｸﾗﾌﾞ事務局用）'!F102","v":0},{"$f":"'申込書（ｸﾗﾌﾞ事務局用）'!G102","v":0},{"$f":"'申込書（ｸﾗﾌﾞ事務局用）'!H102","v":0},{"$f":"'申込書（ｸﾗﾌﾞ事務局用）'!I102","v":0}]
[null,null,null,null,null,null,null,null,null,null,null,null,null,null,null,null,null,null,null,null,null,null,null,null,null,null,{"$f":"'申込書（ｸﾗﾌﾞ事務局用）'!$K$97","v":6},{"$f":"'申込書（ｸﾗﾌﾞ事務局用）'!$D$96","v":0},{"$f":"'申込書（ｸﾗﾌﾞ事務局用）'!E105","v":0},{"$f":"'申込書（ｸﾗﾌﾞ事務局用）'!F105","v":0},{"$f":"'申込書（ｸﾗﾌﾞ事務局用）'!G105","v":0},{"$f":"'申込書（ｸﾗﾌﾞ事務局用）'!H105","v":0},{"$f":"'申込書（ｸﾗﾌﾞ事務局用）'!I105","v":0}]
[null,null,null,null,null,null,null,null,null,null,null,null,null,null,null,null,null,null,null,null,null,null,null,null,null,null,{"$f":"'申込書（ｸﾗﾌﾞ事務局用）'!$K$97","v":6},{"$f":"'申込書（ｸﾗﾌﾞ事務局用）'!$D$96","v":0},{"$f":"'申込書（ｸﾗﾌﾞ事務局用）'!E106","v":0},{"$f":"'申込書（ｸﾗﾌﾞ事務局用）'!F106","v":0},{"$f":"'申込書（ｸﾗﾌﾞ事務局用）'!G106","v":0},{"$f":"'申込書（ｸﾗﾌﾞ事務局用）'!H106","v":0},{"$f":"'申込書（ｸﾗﾌﾞ事務局用）'!I106","v":0}]
[null,null,null,null,null,null,null,null,null,null,null,null,null,null,null,null,null,null,null,null,null,null,null,null,null,null,{"$f":"'申込書（ｸﾗﾌﾞ事務局用）'!$K$97","v":6},{"$f":"'申込書（ｸﾗﾌﾞ事務局用）'!$D$96","v":0},{"$f":"'申込書（ｸﾗﾌﾞ事務局用）'!E107","v":0},{"$f":"'申込書（ｸﾗﾌﾞ事務局用）'!F107","v":0},{"$f":"'申込書（ｸﾗﾌﾞ事務局用）'!G107","v":0},{"$f":"'申込書（ｸﾗﾌﾞ事務局用）'!H107","v":0},{"$f":"'申込書（ｸﾗﾌﾞ事務局用）'!I107","v":0}]
[null,null,null,null,null,null,null,null,null,null,null,null,null,null,null,null,null,null,null,null,null,null,null,null,null,null,{"$f":"'申込書（ｸﾗﾌﾞ事務局用）'!$K$97","v":6},{"$f":"'申込書（ｸﾗﾌﾞ事務局用）'!$D$96","v":0},{"$f":"'申込書（ｸﾗﾌﾞ事務局用）'!E108","v":0},{"$f":"'申込書（ｸﾗﾌﾞ事務局用）'!F108","v":0},{"$f":"'申込書（ｸﾗﾌﾞ事務局用）'!G108","v":0},{"$f":"'申込書（ｸﾗﾌﾞ事務局用）'!H108","v":0},{"$f":"'申込書（ｸﾗﾌﾞ事務局用）'!I108","v":0}]
[null,null,null,null,null,null,null,null,null,null,null,null,null,null,null,null,null,null,null,null,null,null,null,null,null,null,{"$f":"'申込書（ｸﾗﾌﾞ事務局用）'!$K$97","v":6},{"$f":"'申込書（ｸﾗﾌﾞ事務局用）'!$D$96","v":0},{"$f":"'申込書（ｸﾗﾌﾞ事務局用）'!E110","v":0},{"$f":"'申込書（ｸﾗﾌﾞ事務局用）'!F110","v":0},{"$f":"'申込書（ｸﾗﾌﾞ事務局用）'!G110","v":0},{"$f":"'申込書（ｸﾗﾌﾞ事務局用）'!H110","v":0},{"$f":"'申込書（ｸﾗﾌﾞ事務局用）'!I110","v":0}]
[null,null,null,null,null,null,null,null,null,null,null,null,null,null,null,null,null,null,null,null,null,null,null,null,null,null,{"$f":"'申込書（ｸﾗﾌﾞ事務局用）'!$K$97","v":6},{"$f":"'申込書（ｸﾗﾌﾞ事務局用）'!$D$96","v":0},{"$f":"'申込書（ｸﾗﾌﾞ事務局用）'!E111","v":0},{"$f":"'申込書（ｸﾗﾌﾞ事務局用）'!F111","v":0},{"$f":"'申込書（ｸﾗﾌﾞ事務局用）'!G111","v":0},{"$f":"'申込書（ｸﾗﾌﾞ事務局用）'!H111","v":0},{"$f":"'申込書（ｸﾗﾌﾞ事務局用）'!I111","v":0}]
[null,null,null,null,null,null,null,null,null,null,null,null,null,null,null,null,null,null,null,null,null,null,null,null,null,null,{"$f":"'申込書（ｸﾗﾌﾞ事務局用）'!$K$114","v":7},{"$f":"'申込書（ｸﾗﾌﾞ事務局用）'!$D$113","v":0},{"$f":"'申込書（ｸﾗﾌﾞ事務局用）'!E119","v":0},{"$f":"'申込書（ｸﾗﾌﾞ事務局用）'!F119","v":0},{"$f":"'申込書（ｸﾗﾌﾞ事務局用）'!G119","v":0},{"$f":"'申込書（ｸﾗﾌﾞ事務局用）'!H119","v":0},{"$f":"'申込書（ｸﾗﾌﾞ事務局用）'!I119","v":0}]
[null,null,null,null,null,null,null,null,null,null,null,null,null,null,null,null,null,null,null,null,null,null,null,null,null,null,{"$f":"'申込書（ｸﾗﾌﾞ事務局用）'!$K$114","v":7},{"$f":"'申込書（ｸﾗﾌﾞ事務局用）'!$D$113","v":0},{"$f":"'申込書（ｸﾗﾌﾞ事務局用）'!E120","v":0},{"$f":"'申込書（ｸﾗﾌﾞ事務局用）'!F120","v":0},{"$f":"'申込書（ｸﾗﾌﾞ事務局用）'!G120","v":0},{"$f":"'申込書（ｸﾗﾌﾞ事務局用）'!H120","v":0},{"$f":"'申込書（ｸﾗﾌﾞ事務局用）'!I120","v":0}]
[null,null,null,null,null,null,null,null,null,null,null,null,null,null,null,null,null,null,null,null,null,null,null,null,null,null,{"$f":"'申込書（ｸﾗﾌﾞ事務局用）'!$K$114","v":7},{"$f":"'申込書（ｸﾗﾌﾞ事務局用）'!$D$113","v":0},{"$f":"'申込書（ｸﾗﾌﾞ事務局用）'!E121","v":0},{"$f":"'申込書（ｸﾗﾌﾞ事務局用）'!F121","v":0},{"$f":"'申込書（ｸﾗﾌﾞ事務局用）'!G121","v":0},{"$f":"'申込書（ｸﾗﾌﾞ事務局用）'!H121","v":0},{"$f":"'申込書（ｸﾗﾌﾞ事務局用）'!I121","v":0}]
[null,null,null,null,null,null,null,null,null,null,null,null,null,null,null,null,null,null,null,null,null,null,null,null,null,null,{"$f":"'申込書（ｸﾗﾌﾞ事務局用）'!$K$114","v":7},{"$f":"'申込書（ｸﾗﾌﾞ事務局用）'!$D$113","v":0},{"$f":"'申込書（ｸﾗﾌﾞ事務局用）'!E124","v":0},{"$f":"'申込書（ｸﾗﾌﾞ事務局用）'!F124","v":0},{"$f":"'申込書（ｸﾗﾌﾞ事務局用）'!G124","v":0},{"$f":"'申込書（ｸﾗﾌﾞ事務局用）'!H124","v":0},{"$f":"'申込書（ｸﾗﾌﾞ事務局用）'!I124","v":0}]
[null,null,null,null,null,null,null,null,null,null,null,null,null,null,null,null,null,null,null,null,null,null,null,null,null,null,{"$f":"'申込書（ｸﾗﾌﾞ事務局用）'!$K$114","v":7},{"$f":"'申込書（ｸﾗﾌﾞ事務局用）'!$D$113","v":0},{"$f":"'申込書（ｸﾗﾌﾞ事務局用）'!E125","v":0},{"$f":"'申込書（ｸﾗﾌﾞ事務局用）'!F125","v":0},{"$f":"'申込書（ｸﾗﾌﾞ事務局用）'!G125","v":0},{"$f":"'申込書（ｸﾗﾌﾞ事務局用）'!H125","v":0},{"$f":"'申込書（ｸﾗﾌﾞ事務局用）'!I125","v":0}]
[null,null,null,null,null,null,null,null,null,null,null,null,null,null,null,null,null,null,null,null,null,null,null,null,null,null,{"$f":"'申込書（ｸﾗﾌﾞ事務局用）'!$K$114","v":7},{"$f":"'申込書（ｸﾗﾌﾞ事務局用）'!$D$113","v":0},{"$f":"'申込書（ｸﾗﾌﾞ事務局用）'!E127","v":0},{"$f":"'申込書（ｸﾗﾌﾞ事務局用）'!F127","v":0},{"$f":"'申込書（ｸﾗﾌﾞ事務局用）'!G127","v":0},{"$f":"'申込書（ｸﾗﾌﾞ事務局用）'!H127","v":0},{"$f":"'申込書（ｸﾗﾌﾞ事務局用）'!I127","v":0}]
[null,null,null,null,null,null,null,null,null,null,null,null,null,null,null,null,null,null,null,null,null,null,null,null,null,null,{"$f":"'申込書（ｸﾗﾌﾞ事務局用）'!$K$114","v":7},{"$f":"'申込書（ｸﾗﾌﾞ事務局用）'!$D$113","v":0},{"$f":"'申込書（ｸﾗﾌﾞ事務局用）'!E128","v":0},{"$f":"'申込書（ｸﾗﾌﾞ事務局用）'!F128","v":0},{"$f":"'申込書（ｸﾗﾌﾞ事務局用）'!G128","v":0},{"$f":"'申込書（ｸﾗﾌﾞ事務局用）'!H128","v":0},{"$f":"'申込書（ｸﾗﾌﾞ事務局用）'!I128","v":0}]
[null,null,null,null,null,null,null,null,null,null,null,null,null,null,null,null,null,null,null,null,null,null,null,null,null,null,{"$f":"'申込書（ｸﾗﾌﾞ事務局用）'!$K$131","v":8},{"$f":"'申込書（ｸﾗﾌﾞ事務局用）'!$D$130","v":0},{"$f":"'申込書（ｸﾗﾌﾞ事務局用）'!E136","v":0},{"$f":"'申込書（ｸﾗﾌﾞ事務局用）'!F136","v":0},{"$f":"'申込書（ｸﾗﾌﾞ事務局用）'!G136","v":0},{"$f":"'申込書（ｸﾗﾌﾞ事務局用）'!H136","v":0},{"$f":"'申込書（ｸﾗﾌﾞ事務局用）'!I136","v":0}]
[null,null,null,null,null,null,null,null,null,null,null,null,null,null,null,null,null,null,null,null,null,null,null,null,null,null,{"$f":"'申込書（ｸﾗﾌﾞ事務局用）'!$K$131","v":8},{"$f":"'申込書（ｸﾗﾌﾞ事務局用）'!$D$130","v":0},{"$f":"'申込書（ｸﾗﾌﾞ事務局用）'!E137","v":0},{"$f":"'申込書（ｸﾗﾌﾞ事務局用）'!F137","v":0},{"$f":"'申込書（ｸﾗﾌﾞ事務局用）'!G137","v":0},{"$f":"'申込書（ｸﾗﾌﾞ事務局用）'!H137","v":0},{"$f":"'申込書（ｸﾗﾌﾞ事務局用）'!I137","v":0}]
[null,null,null,null,null,null,null,null,null,null,null,null,null,null,null,null,null,null,null,null,null,null,null,null,null,null,{"$f":"'申込書（ｸﾗﾌﾞ事務局用）'!$K$131","v":8},{"$f":"'申込書（ｸﾗﾌﾞ事務局用）'!$D$130","v":0},{"$f":"'申込書（ｸﾗﾌﾞ事務局用）'!E138","v":0},{"$f":"'申込書（ｸﾗﾌﾞ事務局用）'!F138","v":0},{"$f":"'申込書（ｸﾗﾌﾞ事務局用）'!G138","v":0},{"$f":"'申込書（ｸﾗﾌﾞ事務局用）'!H138","v":0},{"$f":"'申込書（ｸﾗﾌﾞ事務局用）'!I138","v":0}]
[null,null,null,null,null,null,null,null,null,null,null,null,null,null,null,null,null,null,null,null,null,null,null,null,null,null,{"$f":"'申込書（ｸﾗﾌﾞ事務局用）'!$K$131","v":8},{"$f":"'申込書（ｸﾗﾌﾞ事務局用）'!$D$130","v":0},{"$f":"'申込書（ｸﾗﾌﾞ事務局用）'!E139","v":0},{"$f":"'申込書（ｸﾗﾌﾞ事務局用）'!F139","v":0},{"$f":"'申込書（ｸﾗﾌﾞ事務局用）'!G139","v":0},{"$f":"'申込書（ｸﾗﾌﾞ事務局用）'!H139","v":0},{"$f":"'申込書（ｸﾗﾌﾞ事務局用）'!I139","v":0}]
[null,null,null,null,null,null,null,null,null,null,null,null,null,null,null,null,null,null,null,null,null,null,null,null,null,null,{"$f":"'申込書（ｸﾗﾌﾞ事務局用）'!$K$131","v":8},{"$f":"'申込書（ｸﾗﾌﾞ事務局用）'!$D$130","v":0},{"$f":"'申込書（ｸﾗﾌﾞ事務局用）'!E140","v":0},{"$f":"'申込書（ｸﾗﾌﾞ事務局用）'!F140","v":0},{"$f":"'申込書（ｸﾗﾌﾞ事務局用）'!G140","v":0},{"$f":"'申込書（ｸﾗﾌﾞ事務局用）'!H140","v":0},{"$f":"'申込書（ｸﾗﾌﾞ事務局用）'!I140","v":0}]
[null,null,null,null,null,null,null,null,null,null,null,null,null,null,null,null,null,null,null,null,null,null,null,null,null,null,{"$f":"'申込書（ｸﾗﾌﾞ事務局用）'!$K$131","v":8},{"$f":"'申込書（ｸﾗﾌﾞ事務局用）'!$D$130","v":0},{"$f":"'申込書（ｸﾗﾌﾞ事務局用）'!E144","v":0},{"$f":"'申込書（ｸﾗﾌﾞ事務局用）'!F144","v":0},{"$f":"'申込書（ｸﾗﾌﾞ事務局用）'!G144","v":0},{"$f":"'申込書（ｸﾗﾌﾞ事務局用）'!H144","v":0},{"$f":"'申込書（ｸﾗﾌﾞ事務局用）'!I144","v":0}]
[null,null,null,null,null,null,null,null,null,null,null,null,null,null,null,null,null,null,null,null,null,null,null,null,null,null,{"$f":"'申込書（ｸﾗﾌﾞ事務局用）'!$K$131","v":8},{"$f":"'申込書（ｸﾗﾌﾞ事務局用）'!$D$130","v":0},{"$f":"'申込書（ｸﾗﾌﾞ事務局用）'!E145","v":0},{"$f":"'申込書（ｸﾗﾌﾞ事務局用）'!F145","v":0},{"$f":"'申込書（ｸﾗﾌﾞ事務局用）'!G145","v":0},{"$f":"'申込書（ｸﾗﾌﾞ事務局用）'!H145","v":0},{"$f":"'申込書（ｸﾗﾌﾞ事務局用）'!I145","v":0}]
[null,null,null,null,null,null,null,null,null,null,null,null,null,null,null,null,null,null,null,null,null,null,null,null,null,null,{"$f":"'申込書（ｸﾗﾌﾞ事務局用）'!$K$148","v":9},{"$f":"'申込書（ｸﾗﾌﾞ事務局用）'!$D$147","v":0},{"$f":"'申込書（ｸﾗﾌﾞ事務局用）'!E153","v":0},{"$f":"'申込書（ｸﾗﾌﾞ事務局用）'!F153","v":0},{"$f":"'申込書（ｸﾗﾌﾞ事務局用）'!G153","v":0},{"$f":"'申込書（ｸﾗﾌﾞ事務局用）'!H153","v":0},{"$f":"'申込書（ｸﾗﾌﾞ事務局用）'!I153","v":0}]
[null,null,null,null,null,null,null,null,null,null,null,null,null,null,null,null,null,null,null,null,null,null,null,null,null,null,{"$f":"'申込書（ｸﾗﾌﾞ事務局用）'!$K$148","v":9},{"$f":"'申込書（ｸﾗﾌﾞ事務局用）'!$D$147","v":0},{"$f":"'申込書（ｸﾗﾌﾞ事務局用）'!E154","v":0},{"$f":"'申込書（ｸﾗﾌﾞ事務局用）'!F154","v":0},{"$f":"'申込書（ｸﾗﾌﾞ事務局用）'!G154","v":0},{"$f":"'申込書（ｸﾗﾌﾞ事務局用）'!H154","v":0},{"$f":"'申込書（ｸﾗﾌﾞ事務局用）'!I154","v":0}]
[null,null,null,null,null,null,null,null,null,null,null,null,null,null,null,null,null,null,null,null,null,null,null,null,null,null,{"$f":"'申込書（ｸﾗﾌﾞ事務局用）'!$K$148","v":9},{"$f":"'申込書（ｸﾗﾌﾞ事務局用）'!$D$147","v":0},{"$f":"'申込書（ｸﾗﾌﾞ事務局用）'!E155","v":0},{"$f":"'申込書（ｸﾗﾌﾞ事務局用）'!F155","v":0},{"$f":"'申込書（ｸﾗﾌﾞ事務局用）'!G155","v":0},{"$f":"'申込書（ｸﾗﾌﾞ事務局用）'!H155","v":0},{"$f":"'申込書（ｸﾗﾌﾞ事務局用）'!I155","v":0}]
[null,null,null,null,null,null,null,null,null,null,null,null,null,null,null,null,null,null,null,null,null,null,null,null,null,null,{"$f":"'申込書（ｸﾗﾌﾞ事務局用）'!$K$148","v":9},{"$f":"'申込書（ｸﾗﾌﾞ事務局用）'!$D$147","v":0},{"$f":"'申込書（ｸﾗﾌﾞ事務局用）'!E156","v":0},{"$f":"'申込書（ｸﾗﾌﾞ事務局用）'!F156","v":0},{"$f":"'申込書（ｸﾗﾌﾞ事務局用）'!G156","v":0},{"$f":"'申込書（ｸﾗﾌﾞ事務局用）'!H156","v":0},{"$f":"'申込書（ｸﾗﾌﾞ事務局用）'!I156","v":0}]
[null,null,null,null,null,null,null,null,null,null,null,null,null,null,null,null,null,null,null,null,null,null,null,null,null,null,{"$f":"'申込書（ｸﾗﾌﾞ事務局用）'!$K$148","v":9},{"$f":"'申込書（ｸﾗﾌﾞ事務局用）'!$D$147","v":0},{"$f":"'申込書（ｸﾗﾌﾞ事務局用）'!E159","v":0},{"$f":"'申込書（ｸﾗﾌﾞ事務局用）'!F159","v":0},{"$f":"'申込書（ｸﾗﾌﾞ事務局用）'!G159","v":0},{"$f":"'申込書（ｸﾗﾌﾞ事務局用）'!H159","v":0},{"$f":"'申込書（ｸﾗﾌﾞ事務局用）'!I159","v":0}]
[null,null,null,null,null,null,null,null,null,null,null,null,null,null,null,null,null,null,null,null,null,null,null,null,null,null,{"$f":"'申込書（ｸﾗﾌﾞ事務局用）'!$K$148","v":9},{"$f":"'申込書（ｸﾗﾌﾞ事務局用）'!$D$147","v":0},{"$f":"'申込書（ｸﾗﾌﾞ事務局用）'!E161","v":0},{"$f":"'申込書（ｸﾗﾌﾞ事務局用）'!F161","v":0},{"$f":"'申込書（ｸﾗﾌﾞ事務局用）'!G161","v":0},{"$f":"'申込書（ｸﾗﾌﾞ事務局用）'!H161","v":0},{"$f":"'申込書（ｸﾗﾌﾞ事務局用）'!I161","v":0}]
[null,null,null,null,null,null,null,null,null,null,null,null,null,null,null,null,null,null,null,null,null,null,null,null,null,null,{"$f":"'申込書（ｸﾗﾌﾞ事務局用）'!$K$148","v":9},{"$f":"'申込書（ｸﾗﾌﾞ事務局用）'!$D$147","v":0},{"$f":"'申込書（ｸﾗﾌﾞ事務局用）'!E162","v":0},{"$f":"'申込書（ｸﾗﾌﾞ事務局用）'!F162","v":0},{"$f":"'申込書（ｸﾗﾌﾞ事務局用）'!G162","v":0},{"$f":"'申込書（ｸﾗﾌﾞ事務局用）'!H162","v":0},{"$f":"'申込書（ｸﾗﾌﾞ事務局用）'!I162","v":0}]
[null,null,null,null,null,null,null,null,null,null,null,null,null,null,null,null,null,null,null,null,null,null,null,null,null,null,{"$f":"'申込書（ｸﾗﾌﾞ事務局用）'!$K$165","v":10},{"$f":"'申込書（ｸﾗﾌﾞ事務局用）'!$D$164","v":0},{"$f":"'申込書（ｸﾗﾌﾞ事務局用）'!E170","v":0},{"$f":"'申込書（ｸﾗﾌﾞ事務局用）'!F170","v":0},{"$f":"'申込書（ｸﾗﾌﾞ事務局用）'!G170","v":0},{"$f":"'申込書（ｸﾗﾌﾞ事務局用）'!H170","v":0},{"$f":"'申込書（ｸﾗﾌﾞ事務局用）'!I170","v":0}]
[null,null,null,null,null,null,null,null,null,null,null,null,null,null,null,null,null,null,null,null,null,null,null,null,null,null,{"$f":"'申込書（ｸﾗﾌﾞ事務局用）'!$K$165","v":10},{"$f":"'申込書（ｸﾗﾌﾞ事務局用）'!$D$164","v":0},{"$f":"'申込書（ｸﾗﾌﾞ事務局用）'!E171","v":0},{"$f":"'申込書（ｸﾗﾌﾞ事務局用）'!F171","v":0},{"$f":"'申込書（ｸﾗﾌﾞ事務局用）'!G171","v":0},{"$f":"'申込書（ｸﾗﾌﾞ事務局用）'!H171","v":0},{"$f":"'申込書（ｸﾗﾌﾞ事務局用）'!I171","v":0}]
[null,null,null,null,null,null,null,null,null,null,null,null,null,null,null,null,null,null,null,null,null,null,null,null,null,null,{"$f":"'申込書（ｸﾗﾌﾞ事務局用）'!$K$165","v":10},{"$f":"'申込書（ｸﾗﾌﾞ事務局用）'!$D$164","v":0},{"$f":"'申込書（ｸﾗﾌﾞ事務局用）'!E172","v":0},{"$f":"'申込書（ｸﾗﾌﾞ事務局用）'!F172","v":0},{"$f":"'申込書（ｸﾗﾌﾞ事務局用）'!G172","v":0},{"$f":"'申込書（ｸﾗﾌﾞ事務局用）'!H172","v":0},{"$f":"'申込書（ｸﾗﾌﾞ事務局用）'!I172","v":0}]
[null,null,null,null,null,null,null,null,null,null,null,null,null,null,null,null,null,null,null,null,null,null,null,null,null,null,{"$f":"'申込書（ｸﾗﾌﾞ事務局用）'!$K$165","v":10},{"$f":"'申込書（ｸﾗﾌﾞ事務局用）'!$D$164","v":0},{"$f":"'申込書（ｸﾗﾌﾞ事務局用）'!E173","v":0},{"$f":"'申込書（ｸﾗﾌﾞ事務局用）'!F173","v":0},{"$f":"'申込書（ｸﾗﾌﾞ事務局用）'!G173","v":0},{"$f":"'申込書（ｸﾗﾌﾞ事務局用）'!H173","v":0},{"$f":"'申込書（ｸﾗﾌﾞ事務局用）'!I173","v":0}]
[null,null,null,null,null,null,null,null,null,null,null,null,null,null,null,null,null,null,null,null,null,null,null,null,null,null,{"$f":"'申込書（ｸﾗﾌﾞ事務局用）'!$K$165","v":10},{"$f":"'申込書（ｸﾗﾌﾞ事務局用）'!$D$164","v":0},{"$f":"'申込書（ｸﾗﾌﾞ事務局用）'!E176","v":0},{"$f":"'申込書（ｸﾗﾌﾞ事務局用）'!F176","v":0},{"$f":"'申込書（ｸﾗﾌﾞ事務局用）'!G176","v":0},{"$f":"'申込書（ｸﾗﾌﾞ事務局用）'!H176","v":0},{"$f":"'申込書（ｸﾗﾌﾞ事務局用）'!I176","v":0}]
[null,null,null,null,null,null,null,null,null,null,null,null,null,null,null,null,null,null,null,null,null,null,null,null,null,null,{"$f":"'申込書（ｸﾗﾌﾞ事務局用）'!$K$165","v":10},{"$f":"'申込書（ｸﾗﾌﾞ事務局用）'!$D$164","v":0},{"$f":"'申込書（ｸﾗﾌﾞ事務局用）'!E178","v":0},{"$f":"'申込書（ｸﾗﾌﾞ事務局用）'!F178","v":0},{"$f":"'申込書（ｸﾗﾌﾞ事務局用）'!G178","v":0},{"$f":"'申込書（ｸﾗﾌﾞ事務局用）'!H178","v":0},{"$f":"'申込書（ｸﾗﾌﾞ事務局用）'!I178","v":0}]
[null,null,null,null,null,null,null,null,null,null,null,null,null,null,null,null,null,null,null,null,null,null,null,null,null,null,{"$f":"'申込書（ｸﾗﾌﾞ事務局用）'!$K$165","v":10},{"$f":"'申込書（ｸﾗﾌﾞ事務局用）'!$D$164","v":0},{"$f":"'申込書（ｸﾗﾌﾞ事務局用）'!E179","v":0},{"$f":"'申込書（ｸﾗﾌﾞ事務局用）'!F179","v":0},{"$f":"'申込書（ｸﾗﾌﾞ事務局用）'!G179","v":0},{"$f":"'申込書（ｸﾗﾌﾞ事務局用）'!H179","v":0},{"$f":"'申込書（ｸﾗﾌﾞ事務局用）'!I179","v":0}]

{"sheet":"印刷指定","index":2,"n_rows":68,"n_cols":8,"rows_kept":68,"cut":false,"hidden":false,"merged":[[1,3,1,6],[9,7,10,11]]}
[{"$f":"'申込書（ｸﾗﾌﾞ事務局用）'!$A$2","v":"第"}]
[null,null,null,"印刷指定画面"]
[]
[]
[]
[]
[]
[]
[]
[null,null,null,null,null,null,null,"プレビューを表示します。印刷するときはプレビュー画面にある印刷ボタンをクリックしてください。"]
[]
[]
[null,null,null,"最初に集計表をﾌﾟﾚﾋﾞｭｰします。印刷するときは、ﾌﾟﾚﾋﾞｭｰ画面にある「印刷」ﾎﾞﾀﾝをｸﾘｯｸしてください。"]
[null,null,null,"ﾌﾟﾚﾋﾞｭｰ画面の「閉じる」をｸﾘｯｸすると入力した「申込表」を表示します。無条件に10ﾁｰﾑ分を表示します。"]
[null,null,null,"１枚の紙に２チーム分を印刷するようにしてあります。"]
[null,null,null,"印刷するときは、ﾌﾟﾚﾋﾞｭｰ画面にある「印刷」ﾎﾞﾀﾝをｸﾘｯｸして、印刷範囲を指定してください。"]
[]
[]
[]
[]
[]
[]
[]
[null,null,null,null,"申込書（直接入力用）へ"]
[]
[]
[]
[]
[]
[]
[]
[]
[]
[]
[]
[]
[]
[]
[]
[]
[]
[]
[]
[]
[]
[]
[]
[]
[null,null,null,null,"Sub 保存終了()"]
[null,null,null,null,"'"]
[null,null,null,null,"' ファイルを保存してから画面を元に戻して終了する Macro"]
[null,null,null,null,"   Application.Goto Worksheets(\"申込ﾃﾞｰﾀ\").Range(\"A4\"), True"]
[null,null,null,null,"'   ActiveWorkbook.Save"]
[null,null,null,null,"    Application.Dialogs(xlDialogSaveAs).Show"]
[null,null,null,null,"    Application.DisplayFullScreen = False"]
[null,null,null,null,"    Application.DisplayFormulaBar = True"]
[null,null,null,null,"    Application.DisplayStatusBar = True"]
[null,null,null,null,"    Application.CommandBars(\"Standard\").Visible = True"]
[null,null,null,null,"    Application.CommandBars(\"Formatting\").Visible = True"]
[null,null,null,null,"    With ActiveWindow"]
[null,null,null,null,"        .DisplayHeadings = True"]
[null,null,null,null,"        .DisplayHorizontalScrollBar = True"]
[null,null,null,null,"        .DisplayVerticalScrollBar = True"]
[null,null,null,null,"        .DisplayWorkbookTabs = True"]
[null,null,null,null,"    End With"]
[null,null,null,null,"'   Application.Quit"]
[null,null,null,null,"   ActiveWorkbook.Close SaveChanges:=False"]
[null,null,null,null,"End Sub"]

{"sheet":"手書き用申込書","index":3,"n_rows":28,"n_cols":12,"rows_kept":28,"cut":false,"hidden":false,"merged":[[0,1,0,5],[12,1,12,3],[13,1,13,3],[5,10,6,13],[18,11,21,13],[9,1,9,3],[10,1,10,3],[17,1,17,4],[18,1,18,4],[20,1,20,4],[22,11,24,13],[12,7,12,8],[14,7,16,10],[19,1,19,4],[8,1,8,3],[21,1,21,4]]}
[null,"これは手書き用です。印刷して必要事項を書き込み、市町の協会または連盟の事務局へ提出してください。",null,null,null,null,null,"申込書（直接入力用）へ戻る"]
[]
[null,{"$f":"'申込書（ｸﾗﾌﾞ事務局用）'!$A$1","v":"令和"}]
[null,{"$f":"'申込書（ｸﾗﾌﾞ事務局用）'!$A$2","v":"第"},null,null,null,null,null,null,null,null,"下の何も色のついていない枠内に書き込んでください。"]
[]
[null,null,null,null,"市・町協会・連盟　会長あて",null,null,null,null,null,"　この申込書は、参加料を添えて加盟団体（市町協会、実業団連盟、レディース連盟、教職員連盟）へ提出してください。"]
[null,null,null,null,"下記のとおり申し込みます。"]
[]
[null,"クラブ名"]
[null,"代表者(申込責任者)氏名"]
[null,"代表者電話＆ﾒｰﾙｱﾄﾞﾚｽ"]
[null,null,"申込部門",null,"チーム名","市町名（活動拠点）","加盟団体名","参加料",null,"申込責任者氏名",null,"左記責任者の連絡先（夜間も連絡がつくもの）"]
[null,"Ａの部\n\nＢの部",null,null,null,null,"＿＿＿＿協会\n\n＿＿＿＿連盟",{"$f":"\"①一般・大学\"&FIXED(ASC('申込書（ｸﾗﾌﾞ事務局用）'!$W$11),0)&\"円　　\"\n&\"　　②　　高校生\"&FIXED(ASC('申込書（ｸﾗﾌﾞ事務局用）'!$W$12),0)&\"円　　\"\n&\"　　③　小中学生\"&FIXED(ASC('申込書（ｸﾗﾌﾞ事務局用）'!$W$13),0)&\"円　　\"","v":"①一般・大学4,000円　　　　②　　高校生3,000円　　　　③　小中学生2,000円　　"},{"$error":"#REF!"},{"$f":"IF($E13=\"\",\"\",$E$10)","v":""}]
[null,"１部 ・ ２部 ・ ３部",null,null,null,"氏名","↑下線部に記入すること","　↑当てはまるものを○で囲むこと"]
[null,"↑当てはまるものを○で囲むこと",null,null,null,null,"監督","監督、コーチ、マネージャーが選手を兼ねるときは下の選手欄にも記載すること"]
[null,null,null,null,null,null,"ｺｰﾁ "]
[null,null,null,null,null,null,"ﾏﾈｰｼﾞｬｰ"]
[null,"Ａの部は６～10人で構成。",null,null,null,"選手氏名","日バ登録番号","小中高\n大一般","登録団体","性別"]
[null,"Ａの部は、男子複、女子複、混合複の順で試合を行います。",null,null,null,null,null,null,null,null,"選手1","　「日バ登録番号」＝登録済み者は番号を記入すること。未登録の場合は「手続中」として、チームの代表の方は「加盟団体」事務局で選手の登録手続きをとってください。詳しくは加盟団体事務局に問い合わせてるださい。\n\n　「小中高大一般」＝左の選手が小学生か中学生なら「小中」、高校生なら「高」、大学生なら「大」、学生以外なら「一般」と記入してください。"]
[null,"Ｂの部は６～10人で構成。",null,null,null,null,null,null,null,null,"選手2"]
[null,"Ｂの部は､混合複×３対戦で試合を行います。",null,null,null,null,null,null,null,null,"選手3"]
[null,"Ａの部、Ｂの部とも、\n当日、10人を超えない範囲で３人まで選手を変更することができます。",null,null,null,null,null,null,null,null,"選手4"]
[null,null,null,null,null,null,null,null,null,null,"選手5","　選手の「登録団体名」が分からないときは、普段活動している体育館がある市や町のバドミントン協会などに聞いてみてください。\n\n　「性別」＝「男」「女」を記入してください。"]
[null,null,null,null,null,null,null,null,null,null,"選手6"]
[null,null,null,null,null,null,null,null,null,null,"選手7"]
[null,null,null,null,null,null,null,null,null,null,"選手8"]
[null,null,null,null,null,null,null,null,null,null,"選手9"]
[null,null,null,null,null,null,null,null,null,null,"選手10"]